BEGIN:VCALENDAR
PRODID:NingEventWidget-v1
VERSION:2.0
METHOD:PUBLISH
BEGIN:VTIMEZONE
TZID:America/Los_Angeles
X-LIC-LOCATION:America/Los_Angeles
BEGIN:DAYLIGHT
TZOFFSETFROM:-0800
TZOFFSETTO:-0700
TZNAME:PDT
DTSTART:19700308T020000
RRULE:FREQ=YEARLY;BYMONTH=3;BYDAY=2SU
END:DAYLIGHT
BEGIN:STANDARD
TZOFFSETFROM:-0700
TZOFFSETTO:-0800
TZNAME:PST
DTSTART:19701101T020000
RRULE:FREQ=YEARLY;BYMONTH=11;BYDAY=1SU
END:STANDARD
END:VTIMEZONE
BEGIN:VEVENT
UID:1464587:Event:285244
DTSTAMP:20260421T132343Z
SUMMARY:The Berkeley Poetry Slam presents The Anarchy Slam featuring M
 IGHTY MIKE MCGEE
DESCRIPTION:THE LONGEST RUNNING POETRY SLAM IN NORTHERN CALIFORNIA! B
 ringing you some of the best poetry from across the world, every week,
  since 2000.----------------------------This is our last slam of the y
 ear folks because we are taking two weeks off during the holidays. It
 s the Anarchy Slam this week! And that means anything goes. We have 
 a MIGHTY fine feature for the night. One of the most beloved and accom
 plished poets to come from our neck of the woods, the one and only, MI
 KE MCGEE. We love Mike, we know a lot of you love Mike, let’s end th
 e year correct! Also it’ll be our slammaster, Betsy Gomez’s last 
 show. As many of you may know she has been the guiding force of the Be
 rkeley Slam since taking over for Berkeley Slam founder, Charles “Ek
 abhumi” Ellik a few years ago. She has dedicated so much of her time
  over the years from even before her time as slam master to today. So 
 let’s send her off right and thank her for all the hard work she’s
  put in over the years.Sign ups for the slam start at 7:30. The season
  is in full swing so earn you way to compete for a spot to represent B
 erkeley at the National Poetry Slam in Oakland in 2014.Your host for t
 he night will be Dre, with musical accompaniment by DJ Freez----------
 ------------------Bios:\"Mighty\" Mike McGee is a well-traveled funny 
 hobo-poet from San Jose, California. He has been a force in Bay Area s
 poken word since 1999. His reach expanded internationally after winnin
 g the 2003 National Poetry Slam Grand Championship. McGee soon after e
 mbarked on an international poetry and comedy tour, which has taken hi
 m to venues and festivals all over Europe, Canada and the U.S. He has 
 since become a favorite performer to many schools around the U.S. and 
 was one of the first Americans to perform at the University of Paris (
 La Sorbonne) and Glastonbury, the largest music festival in the world.
  McGee travels roughly 100,000 miles a year to make people laugh, thin
 k and cry with his brand of \"stand-up poetry.\"----------------------
 ------Upcoming Features:January 8th It’s a “Welcome to the Bay” 
 feature for Danez Smith-SmithJanuary 15th Santa Cruz’s Queen Jasmeen
 January 22nd WOWPS finalsTHE STARRY PLOUGH3101 Shattuck Avenue, 510-84
 1-2082(1 block uphill from the Ashby BART).EVERY WEDNESDAY$7 - $10 sli
 ding scale (most nights)Cash Prizes!Sign-up: 7:30 p.m. Show: 8:30 p.m.
 ALL AGES before 10 p.m.Slam Rules and Info: http://berkeleypoetryslam
 .wordpress.com/about/Berkeley Slam History: http://berkeleypoetryslam
 .wordpress.com/history-2/\n\nFor more information visit https://truesk
 ool.com/events/the-berkeley-poetry-slam-presents-the-anarchy-slam-feat
 uring
DTSTART;TZID=America/Los_Angeles:20131218T201500
DTEND;TZID=America/Los_Angeles:20131218T223000
CATEGORIES:berkeley, "bay area", oakland, "san francisco", "san jose"
LOCATION:The Starry Plough, Berkeley, CA
WEBSITE:http://berkeleypoetryslam.org
URL:http://berkeleypoetryslam.org
CONTACT:510-841-2082
ORGANIZER;CN="Jason Bayani":https://trueskool.com/profile/JasonBayani
ATTACH;FMTTYPE="image/jpeg":http://storage.ning.com/topology/rest/1.0/
 file/get/2247957653?profile=original
ATTENDEE;ROLE=REQ-PARTICIPANT;PARTSTAT=ACCEPTED;RSVP=TRUE;CN="Jason Ba
 yani":https://trueskool.com/profile/JasonBayani
END:VEVENT
END:VCALENDAR
