BEGIN:VCALENDAR
PRODID:NingEventWidget-v1
VERSION:2.0
METHOD:PUBLISH
BEGIN:VTIMEZONE
TZID:America/Los_Angeles
X-LIC-LOCATION:America/Los_Angeles
BEGIN:DAYLIGHT
TZOFFSETFROM:-0800
TZOFFSETTO:-0700
TZNAME:PDT
DTSTART:19700308T020000
RRULE:FREQ=YEARLY;BYMONTH=3;BYDAY=2SU
END:DAYLIGHT
BEGIN:STANDARD
TZOFFSETFROM:-0700
TZOFFSETTO:-0800
TZNAME:PST
DTSTART:19701101T020000
RRULE:FREQ=YEARLY;BYMONTH=11;BYDAY=1SU
END:STANDARD
END:VTIMEZONE
BEGIN:VEVENT
UID:1464587:Event:444529
DTSTAMP:20260421T003854Z
SUMMARY:The Anomaly Tour Feat. Lecrae & Special Guests Andy Mineo & DJ
  Promote 11/8 [NYC]
DESCRIPTION:\nThe Anomaly Tour Feat. Lecrae & Special Guests Andy Mine
 o & DJ Promote\n\n\nThe Wellmont Theater Montclair, NJ\n\nSat, 11/08/1
 406:00 PM\n\nSee Ticketson Live Nation\n\n\n\n\n\n\nFor more informati
 on visit https://trueskool.com/events/the-anomaly-tour-feat-lecrae-spe
 cial-guests-andy-mineo-dj-promote
DTSTART;TZID=America/Los_Angeles:20141108T180000
DTEND;TZID=America/Los_Angeles:20141108T210000
CATEGORIES:nyc
LOCATION:The Wellmont Theater Montclair, NJ
WEBSITE:http://www.ticketmaster.com/partner_redirect?v=AZSTkVRDj0vp8gI
 XvoyLMATN1YtbZ4rXk2taeVTUgF_mr8LHrrxaJvry7vzTI_Jn6ycwbWGx1GgCOpII0MKJ2
 UsRhhYQ6i0yEdV0Ib2MV4IdMmk6YXDAbMyW5lcwJDDG7Fsrzg&eventid=02004CEBE955
 38CD&artistid=1513943&artistname=The%20Anomaly%20Tour%20Feat.%20Lecrae
 %20&%20Special%20Guests%20Andy%20Mineo%20&%20DJ%20Promote&crosssite=TM
 _US:1513943:16983&tm_link=browse_msg-0_02004CEBE95538CD
URL:http://www.ticketmaster.com/partner_redirect?v=AZSTkVRDj0vp8gIXvoy
 LMATN1YtbZ4rXk2taeVTUgF_mr8LHrrxaJvry7vzTI_Jn6ycwbWGx1GgCOpII0MKJ2UsRh
 hYQ6i0yEdV0Ib2MV4IdMmk6YXDAbMyW5lcwJDDG7Fsrzg&eventid=02004CEBE95538CD
 &artistid=1513943&artistname=The%20Anomaly%20Tour%20Feat.%20Lecrae%20&
 %20Special%20Guests%20Andy%20Mineo%20&%20DJ%20Promote&crosssite=TM_US:
 1513943:16983&tm_link=browse_msg-0_02004CEBE95538CD
CONTACT:
ORGANIZER:Editor's Pick
ATTACH;FMTTYPE="image/jpeg":http://storage.ning.com/topology/rest/1.0/
 file/get/2247971000?profile=original
ATTENDEE;ROLE=REQ-PARTICIPANT;PARTSTAT=ACCEPTED;RSVP=TRUE;CN="Ren the 
 Vinyl Archaeologist":https://trueskool.com/profile/xh51jvilojur
END:VEVENT
END:VCALENDAR
