BEGIN:VCALENDAR
PRODID:NingEventWidget-v1
VERSION:2.0
METHOD:PUBLISH
BEGIN:VTIMEZONE
TZID:America/Los_Angeles
X-LIC-LOCATION:America/Los_Angeles
BEGIN:DAYLIGHT
TZOFFSETFROM:-0800
TZOFFSETTO:-0700
TZNAME:PDT
DTSTART:19700308T020000
RRULE:FREQ=YEARLY;BYMONTH=3;BYDAY=2SU
END:DAYLIGHT
BEGIN:STANDARD
TZOFFSETFROM:-0700
TZOFFSETTO:-0800
TZNAME:PST
DTSTART:19701101T020000
RRULE:FREQ=YEARLY;BYMONTH=11;BYDAY=1SU
END:STANDARD
END:VTIMEZONE
BEGIN:VEVENT
UID:1464587:Event:661253
DTSTAMP:20260422T093334Z
SUMMARY:The Alkaholiks (WIN TICKETS)
DESCRIPTION:ENTER TO WIN A PAIR OF TICKETS. WINNER WILL BE DRAWN RANDO
 MLY AND ANNOUNCED 2 DAYS PRIOR TO EVENT.  \n\nWEDNESDAY, APR 26 The 
 Alkaholiks' Red Cup Tour in SF!\nThe Red Cup Tour featuring Tha Alkaho
 liks, DJ True Justice, Vocab Slick, Masta Of Ceremoniez & T-QRON will 
 be performing in San Francisco!\nGuaranteed to be a party from start t
 o finish.\n@ Elbo Room, San Francisco\nDoors: 9:30\n$8 Early Bird $12 
 Presale $15 Door Limited tickets are available, advanced purchase is r
 ecommended.\n>> BUY TICKETS\n\n\nFor more information visit https://tr
 ueskool.com/events/the-alkaholiks
DTSTART;TZID=America/Los_Angeles:20170426T213000
DTEND;TZID=America/Los_Angeles:20170426T230000
CATEGORIES:"san francisco", oakland, berkley, "san jose", "bay area"
LOCATION:Elbo Room, San Francisco
WEBSITE:http://liks.brownpapertickets.com/
URL:http://liks.brownpapertickets.com/
CONTACT:
ORGANIZER;CN="Editor's Pick":https://trueskool.com/profile/RentheVinyl
 Archaeologist
ATTACH;FMTTYPE="image/jpeg":http://storage.ning.com/topology/rest/1.0/
 file/get/2247995621?profile=original
ATTENDEE;ROLE=REQ-PARTICIPANT;PARTSTAT=ACCEPTED;RSVP=TRUE;CN="Editor's
  Pick":https://trueskool.com/profile/RentheVinylArchaeologist
END:VEVENT
END:VCALENDAR
