BEGIN:VCALENDAR
PRODID:NingEventWidget-v1
VERSION:2.0
METHOD:PUBLISH
BEGIN:VTIMEZONE
TZID:America/Los_Angeles
X-LIC-LOCATION:America/Los_Angeles
BEGIN:DAYLIGHT
TZOFFSETFROM:-0800
TZOFFSETTO:-0700
TZNAME:PDT
DTSTART:19700308T020000
RRULE:FREQ=YEARLY;BYMONTH=3;BYDAY=2SU
END:DAYLIGHT
BEGIN:STANDARD
TZOFFSETFROM:-0700
TZOFFSETTO:-0800
TZNAME:PST
DTSTART:19701101T020000
RRULE:FREQ=YEARLY;BYMONTH=11;BYDAY=1SU
END:STANDARD
END:VTIMEZONE
BEGIN:VEVENT
UID:1464587:Event:69445
DTSTAMP:20260420T181956Z
SUMMARY:The 808 Band with Seneca (Jazz Mafia/Giving Tree) @ Global Mov
 ement, Yoshi's, SF
DESCRIPTION:Live Reggae, Hip Hop, Soul! The 808 Band joins forces with
  Jazz Mafiaâ€™s Seneca, rockin their trademark break-laced reggae soul
  and funk grooves with Senacaâ€™s ill hip hop flow and Robert Herreraâ
 €™s smooth crooning vocals. The event is part of the Global Movement w
 orld music showcase at Yoshi's, www.yoshis.com.\n\nFor more informatio
 n visit https://trueskool.com/events/the-808-band-with-seneca-jazz
DTSTART;TZID=America/Los_Angeles:20101103T210000
DTEND;TZID=America/Los_Angeles:20101104T120000
CATEGORIES:san, francisco, ca
LOCATION:Yoshi's, San Francisco, CA
WEBSITE:http://www.yoshis.com
URL:http://www.yoshis.com
CONTACT:(415) 655-5600
ORGANIZER;CN="808 Music":https://trueskool.com/profile/808Music
ATTACH;FMTTYPE="image/jpeg":http://storage.ning.com/topology/rest/1.0/
 file/get/2247885703?profile=original
ATTENDEE;ROLE=REQ-PARTICIPANT;PARTSTAT=ACCEPTED;RSVP=TRUE;CN="808 Musi
 c":https://trueskool.com/profile/808Music
END:VEVENT
END:VCALENDAR
