BEGIN:VCALENDAR
PRODID:NingEventWidget-v1
VERSION:2.0
METHOD:PUBLISH
BEGIN:VTIMEZONE
TZID:America/Los_Angeles
X-LIC-LOCATION:America/Los_Angeles
BEGIN:DAYLIGHT
TZOFFSETFROM:-0800
TZOFFSETTO:-0700
TZNAME:PDT
DTSTART:19700308T020000
RRULE:FREQ=YEARLY;BYMONTH=3;BYDAY=2SU
END:DAYLIGHT
BEGIN:STANDARD
TZOFFSETFROM:-0700
TZOFFSETTO:-0800
TZNAME:PST
DTSTART:19701101T020000
RRULE:FREQ=YEARLY;BYMONTH=11;BYDAY=1SU
END:STANDARD
END:VTIMEZONE
BEGIN:VEVENT
UID:1464587:Event:32806
DTSTAMP:20260420T181117Z
SUMMARY:The 5th Annual Carnival Fete
DESCRIPTION:The 5th Annual Carnival Fete\n\nHip Hop Room\nRen Tru Skoo
 l, Young Fyah, D Sharp, Apollo\n\nReggae Room\nRelic, Broken Silence, 
 Irie Dole, Serge, Javier, Jah Yzer, Stepwize, Green B\n\nLatin Love Mu
 sic\nLeydis, Los Rakas/Walt Diggz, Bayonics, Santero, J Boogie, Dubtro
 nics\n\n$10\n\nFor more information visit https://trueskool.com/events
 /the-5th-annual-carnival-fete
DTSTART;TZID=America/Los_Angeles:20090524T210000
DTEND;TZID=America/Los_Angeles:20090525T030000
CATEGORIES:hip, hop, latin, live, music, reggae
LOCATION:Club Six, San Francisco, CA
WEBSITE:http://www.clubsix1.com
URL:http://www.clubsix1.com
CONTACT:415-531-6593
ORGANIZER:Angel
ATTACH;FMTTYPE="image/jpeg":http://storage.ning.com/topology/rest/1.0/
 file/get/2068657159?profile=original
ATTENDEE;ROLE=REQ-PARTICIPANT;PARTSTAT=ACCEPTED;RSVP=TRUE;CN=Cecily:ht
 tps://trueskool.com/profile/Cecily
END:VEVENT
END:VCALENDAR
