BEGIN:VCALENDAR
PRODID:NingEventWidget-v1
VERSION:2.0
METHOD:PUBLISH
BEGIN:VTIMEZONE
TZID:America/Los_Angeles
X-LIC-LOCATION:America/Los_Angeles
BEGIN:DAYLIGHT
TZOFFSETFROM:-0800
TZOFFSETTO:-0700
TZNAME:PDT
DTSTART:19700308T020000
RRULE:FREQ=YEARLY;BYMONTH=3;BYDAY=2SU
END:DAYLIGHT
BEGIN:STANDARD
TZOFFSETFROM:-0700
TZOFFSETTO:-0800
TZNAME:PST
DTSTART:19701101T020000
RRULE:FREQ=YEARLY;BYMONTH=11;BYDAY=1SU
END:STANDARD
END:VTIMEZONE
BEGIN:VEVENT
UID:1464587:Event:158123
DTSTAMP:20260421T194856Z
SUMMARY:“The 45 Sessions V.35″ X Soul-Sides w/ guest DJs O-Dub & M
 uddBird | 01.18.13
DESCRIPTION:||| “The 45 Sessions” Vol. 35 X Soul-Sides w/ guest DJ
 s O-Dub & MuddBird |||\n—–>\nFriday, January 18th, 2013 with speci
 al guest DJs…\nO-Dub (Soul-Sides | LA)\nwww.o-dub.comwww.soul-sides.
 comwww.facebook.com/soulsideswww.twitter.com/soulsidescom\nMuddBird (R
 esonate | SF)\nwww.facebook.com/muddbird.waxaholicwww.twitter.com/Mudd
 Bird\n—–>\nKicking off 2013 lovely with one of the most respected 
 DJs/collectors and music journalists in the game, the one and only DJ 
 O-Dub of Soul-Sides fame along with the homie MuddBird out of SF setti
 ng it off. We’re not slowing down anytime soon y’all — come cele
 brate the first Sessions of 2013 with a night of seriously dope music!
  3 year anniversary next month…\n—–>\nAlong with your resident D
 Js…\nPlaturnwww.djplaturn.com\nE Da Bosswww.twitter.com/ericboss\nEn
 kiwww.djenki.com\n—–>\nHosted by the one and only Jern Eye : ww
 w.twitter.com/jerneye\n—–>\nIn the mezzanine…\n“THE HELLA RECO
 RDS SALE X THE 45 SESSIONS” Vinyl Swap\nCurated by Geraldine Convent
 o ( http://www.feelmygrooves.com )\n‘THE HELLA RECORDS SALE’ is 
 a vinyl record sale that occurs in multiple places throughout the year
  around the SF BAY Area.\nAt each sale you’ll find multiple people s
 elling LP’s & 45s to condense their collections, make a quick buck a
 nd several people nerding out/talking about music.\nBring cash to buy!
 \n—–>\nDJs playing all 7″ 45 rpm records — all styles, all nig
 ht!\nAll ages9pm-2am$5-10 sliding scale donationDrink specials + resta
 urant attachedwww.discovolanteoakland.com347 14th Street @ WebsterOakl
 and, California 94612\n\nFor more information visit https://trueskool.
 com/events/the-45-sessions-v-35-x-soul-sides-w-guest-djs-o-dub-muddbir
 d-01
DTSTART;TZID=America/Los_Angeles:20130118T213000
DTEND;TZID=America/Los_Angeles:20130119T014500
CATEGORIES:san, francisco, ca
LOCATION:Disco Volante, Oakland, CA
WEBSITE:
URL:
CONTACT:
ORGANIZER;CN="DJ Platurn":https://trueskool.com/profile/DJPlaturn
ATTACH;FMTTYPE="image/jpeg":http://storage.ning.com/topology/rest/1.0/
 file/get/2247933818?profile=original
ATTENDEE;ROLE=REQ-PARTICIPANT;PARTSTAT=ACCEPTED;RSVP=TRUE;CN="DJ Platu
 rn":https://trueskool.com/profile/DJPlaturn
END:VEVENT
END:VCALENDAR
