BEGIN:VCALENDAR
PRODID:NingEventWidget-v1
VERSION:2.0
METHOD:PUBLISH
BEGIN:VTIMEZONE
TZID:America/Los_Angeles
X-LIC-LOCATION:America/Los_Angeles
BEGIN:DAYLIGHT
TZOFFSETFROM:-0800
TZOFFSETTO:-0700
TZNAME:PDT
DTSTART:19700308T020000
RRULE:FREQ=YEARLY;BYMONTH=3;BYDAY=2SU
END:DAYLIGHT
BEGIN:STANDARD
TZOFFSETFROM:-0700
TZOFFSETTO:-0800
TZNAME:PST
DTSTART:19701101T020000
RRULE:FREQ=YEARLY;BYMONTH=11;BYDAY=1SU
END:STANDARD
END:VTIMEZONE
BEGIN:VEVENT
UID:1464587:Event:81722
DTSTAMP:20260421T051041Z
SUMMARY:The 2nd Annual Hip-Hop against Hate Concert
DESCRIPTION:\n\n\nJoin East Bay and SF musicians bringing change to th
 e community coming together along with DJ Quest in solidarity for the 
 2nd Annual Hip Hop Against Hate Concert Saturday, April 16th @ El Rio.
  Proceeds will benefit Horizons, a youth grassroots center in the Miss
 ion. http://www.horizons-sf.org /\n\n\n\n\n\nPerforming Live .....\n
  \nKENSHO KUMA\nJADA SIMONE\nG-SALEEM \nFREESTYLERO OF THE DIFFERENT
  FOLKS\nVOMITO LIRIKO \nMIKHAEL \nPATIENCE W DREGS 1\n \nHOSTED BY 
 DJ QUEST \n21+\n$5-10 @ the door \n\nFor more information visit http
 s://trueskool.com/events/the-2nd-annual-hiphop-against
DTSTART;TZID=America/Los_Angeles:20110416T210000
DTEND;TZID=America/Los_Angeles:20110417T010000
CATEGORIES:san, francisco, ca
LOCATION:El Rio
WEBSITE:http://www.elriosf.com/
URL:http://www.elriosf.com/
CONTACT:
ORGANIZER;CN=Freestlyero:https://trueskool.com/profile/Freestlyero
ATTACH;FMTTYPE="image/jpeg":http://storage.ning.com/topology/rest/1.0/
 file/get/2187316324?profile=original
ATTENDEE;ROLE=REQ-PARTICIPANT;PARTSTAT=ACCEPTED;RSVP=TRUE;CN=Freestlye
 ro:https://trueskool.com/profile/Freestlyero
END:VEVENT
END:VCALENDAR
