BEGIN:VCALENDAR
PRODID:NingEventWidget-v1
VERSION:2.0
METHOD:PUBLISH
BEGIN:VTIMEZONE
TZID:America/Los_Angeles
X-LIC-LOCATION:America/Los_Angeles
BEGIN:DAYLIGHT
TZOFFSETFROM:-0800
TZOFFSETTO:-0700
TZNAME:PDT
DTSTART:19700308T020000
RRULE:FREQ=YEARLY;BYMONTH=3;BYDAY=2SU
END:DAYLIGHT
BEGIN:STANDARD
TZOFFSETFROM:-0700
TZOFFSETTO:-0800
TZNAME:PST
DTSTART:19701101T020000
RRULE:FREQ=YEARLY;BYMONTH=11;BYDAY=1SU
END:STANDARD
END:VTIMEZONE
BEGIN:VEVENT
UID:1464587:Event:632386
DTSTAMP:20260421T050745Z
SUMMARY:The 2nd Annual 710 Show
DESCRIPTION:\nFRIDAY, JULY 31\nTheNug Presents:\nTHE 2ND ANNUAL 710 SH
 OW\n\nWith Special Guests:\nHieroglyphics member Casual \nG-roy an
 d DJ Hellagood\n\nat Dragon Rouge, 2337 Blanding Ave., Alameda, CA 
 9:00PM. $10 at door.\n[ FACEBOOK EVENT ]\n\nTheNug proudly presents t
 he 2nd annual 710 Show! Celebrate concentrates and enjoy a night of so
 me of the best hip-hop the Bay Area has to offer, brought to you by T
 heNug.com and Platinum Oils. \n\nWe’ve enlisted original Hieroglyp
 hics member Casual to perform live outside at the amazing Alameda venu
 e, Dragon Rouge. G-roy and DJ Hellagood will provide the early beats. 
 Come drink and dance until your night ends in a haze!\n\nWe will also 
 be releasing the Hiero x Nug collaboration t-shirt. These are being pr
 inted in a limited run and will be available on a first-come, first-se
 rved basis the night of the event.\n\nThe show will take place on July
  31st, doors open at 9:00PM in Alameda, CA at Dragon Rouge, 2337 Bland
 ing Ave. $10 cover, prizes and giveaways from TheNug.com, Hieroglyphi
 cs, Platinum Oils and more.\n\nFor more information visit https://true
 skool.com/events/the-2nd-annual-710-show
DTSTART;TZID=America/Los_Angeles:20150731T210000
DTEND;TZID=America/Los_Angeles:20150801T010000
CATEGORIES:bay, area, alameda, oakland
LOCATION:Dragon Rouge, Alameda, CA
WEBSITE:https://www.google.com/maps/place/2337+Blanding+Ave,+Alameda,+
 CA+94501/@37.7714674,-122.2375022,17z/data=!3m1!4b1!4m2!3m1!1s0x808f86
 eb5b912933:0x7b616343288b4559
URL:https://www.google.com/maps/place/2337+Blanding+Ave,+Alameda,+CA+9
 4501/@37.7714674,-122.2375022,17z/data=!3m1!4b1!4m2!3m1!1s0x808f86eb5b
 912933:0x7b616343288b4559
CONTACT:855-420-6847
ORGANIZER;CN="The Nug":https://trueskool.com/profile/JasonGuillory
ATTACH;FMTTYPE="image/jpeg":http://storage.ning.com/topology/rest/1.0/
 file/get/2247980155?profile=original
ATTENDEE;ROLE=REQ-PARTICIPANT;PARTSTAT=ACCEPTED;RSVP=TRUE;CN="The Nug"
 :https://trueskool.com/profile/JasonGuillory
END:VEVENT
END:VCALENDAR
