BEGIN:VCALENDAR
PRODID:NingEventWidget-v1
VERSION:2.0
METHOD:PUBLISH
BEGIN:VTIMEZONE
TZID:America/Los_Angeles
X-LIC-LOCATION:America/Los_Angeles
BEGIN:DAYLIGHT
TZOFFSETFROM:-0800
TZOFFSETTO:-0700
TZNAME:PDT
DTSTART:19700308T020000
RRULE:FREQ=YEARLY;BYMONTH=3;BYDAY=2SU
END:DAYLIGHT
BEGIN:STANDARD
TZOFFSETFROM:-0700
TZOFFSETTO:-0800
TZNAME:PST
DTSTART:19701101T020000
RRULE:FREQ=YEARLY;BYMONTH=11;BYDAY=1SU
END:STANDARD
END:VTIMEZONE
BEGIN:VEVENT
UID:1464587:Event:59482
DTSTAMP:20260420T212117Z
SUMMARY:The 11th Annual Oakland Poetry Slam Battle of the Bay!!
DESCRIPTION:Okay, the dust from finals has settled, all of the members
  of the various teams are getting to know each other, writing new piec
 es and joining together like Voltron to create super, multi-voice or \
 "group\" pieces. What, you've never heard of such a thing? You've neve
 r seen it when 2 or more poets come to the stage at the same time and 
 deliver a poem together? Well, you have no idea what you're missing. G
 roup pieces are always some of the most exciting and dynamic poems to 
 grace the stage at Nationals, so much so that a separate Group Piece F
 inals was added to Nationals before last years tournament. Which team 
 Berkeley WON!\n\nNow, before the poets head to St Paul to face off aga
 inst the rest of the nation they test their mettle battling each other
  head to head for local poetic supremacy! The Battle of The Bay series
 , or \"BoBs\" is where the Bay Area slam teams hone their competitive 
 edge by competing in \"bouts\" that mirror what they'll be seeing in A
 ugust at Nationals. This year the Bay is sending FIVE teams to the big
  dance; Oakland, Berkeley, San Francisco, Life Sentence and San Jose. 
 You owe it to yourself to come witness the poetic carnage these phenom
 enal poets inflict on each other first hand. The Oakland BoB is a long
  standing tradition, now in it's 11th year. For this show we're thrill
 ed to be back at the hottest venue in The Bay The Oasis Restaurant & N
 ightclub! We'll be slamming twice a month on the 2nd & 4th Thursday bu
 t this show is EXTRA-special with ALL of the Bay's top poets in the ON
 E show. Don't miss it!\n\nThe 11th Annual Oakland Poetry Slam Battle o
 f the Bay!!\nThursday June 24th - 8:30 pm\nThe Oasis Restaurant & Nigh
 tclub\n135 12th st. (@ Madison)\nOakland 94607\n$10 - $20 sliding scal
 e\n$7 presale\n(this is a fundraiser, all funds go to team travel expe
 nses)\nThis event is 21+ w/ a full bar\n\nFor more information visit h
 ttps://trueskool.com/events/the-11th-annual-oakland-poetry
DTSTART;TZID=America/Los_Angeles:20100624T203000
DTEND;TZID=America/Los_Angeles:20100624T234500
CATEGORIES:poetry, slam, "&", open-mic, "(comedians", mcs, vocalists, 
 "welcome)"
LOCATION:The Oasis
WEBSITE:http://oaklandslam.com
URL:http://oaklandslam.com
CONTACT:
ORGANIZER:The Projectile Poetry Project
ATTACH;FMTTYPE="image/jpeg":http://storage.ning.com/topology/rest/1.0/
 file/get/2247880780?profile=original
ATTENDEE;ROLE=REQ-PARTICIPANT;PARTSTAT=ACCEPTED;RSVP=TRUE;CN="Oakland 
 Slam":https://trueskool.com/profile/Dahled
END:VEVENT
END:VCALENDAR
