BEGIN:VCALENDAR
PRODID:NingEventWidget-v1
VERSION:2.0
METHOD:PUBLISH
BEGIN:VTIMEZONE
TZID:America/Los_Angeles
X-LIC-LOCATION:America/Los_Angeles
BEGIN:DAYLIGHT
TZOFFSETFROM:-0800
TZOFFSETTO:-0700
TZNAME:PDT
DTSTART:19700308T020000
RRULE:FREQ=YEARLY;BYMONTH=3;BYDAY=2SU
END:DAYLIGHT
BEGIN:STANDARD
TZOFFSETFROM:-0700
TZOFFSETTO:-0800
TZNAME:PST
DTSTART:19701101T020000
RRULE:FREQ=YEARLY;BYMONTH=11;BYDAY=1SU
END:STANDARD
END:VTIMEZONE
BEGIN:VEVENT
UID:1464587:Event:307477
DTSTAMP:20260421T024247Z
SUMMARY:TFS Winter Blues Beat Battle Fundraiser and Live Beat Showcase
 /Canned Food Drive/Pd 33rd Bday
DESCRIPTION:https://www.facebook.com/events/1437505983146894/?source=1
 \n\n$10 cover, $7 w/can of food, $10 flat entry fee for competitors. A
 ll sample flip beats will go on the beat tape which will be free for d
 ownload at http://todaysfuturesound.bandcamp.com/ along with all our o
 ther free beat battle tapes. Competitors are HIGHLY encouraged to brin
 g their equipment and midi controller/beat machine and perform the bea
 ts live, but not required.   Winner gets modified @Akai Professional M
 PK 25 courtesy of 16squarez.com, as well as SKB Utility Hardware bag, 
 lifetime iStandard website membership, Sounds ForSamplers drum sounds 
  Hosted by Reid Richards DJ'ed by Hamilton Duff and Felix FriendlyTrav
 eler Hwang Live beat performance by Mario Miranda aka Asterix Music Ju
 dged by Asterix, Dug Infinite, Frank DjCue Cuevas Hank Poetiqbeetz Mar
 shall amd the audience is 5th judge.  Samples for rounds 1, 2 and 3 he
 re:  **** https://drive.google.com/file/d/0ByAsgRRIa_poLTZJcWlkZmc5SHM
 /edit?usp=sharing ****  Round 4 (final round) will be original beats, 
 all beats 1 min long.  for more info: info@todaysfuturesound.org @tfs_
 beats @philthydrummond facebook.com/philthydrummond facebook.com/today
 sfuturesound todaysfuturesound.org  All Attractive will be vending and
  selling their fly new \"Pro Ducer\" shirts as well as five-panel hats
 ---support local, independent lines like Aaron Miller's fresh line!  L
 ist of confirmed competitors:  1) S.K.ill 2) Chuco 3) aspect mccarthy 
 4) putrid 5) Kayo 6) Scaley Walez 7) Mister Rey 8) RYN* 9) vegamonster
  12) Big Fin 13) preme  14) Straight Out of Fremont  15) panorama 17) 
 Yelir 18) Perksun  19) Herb'n 20) Wrathmatics\n\nFor more information 
 visit https://trueskool.com/events/tfs-winter-blues-beat-battle-fundra
 iser-and-live-beat-showcase
DTSTART;TZID=America/Los_Angeles:20140222T213000
DTEND;TZID=America/Los_Angeles:20140223T020000
CATEGORIES:bay, area, san, francisco
LOCATION:The Showdown, San Francisco
WEBSITE:https://maps.google.com/maps?q=The+Showdown,+6th+Street,+San+F
 rancisco,+CA&hl=en&sll=37.758475,-122.235328&sspn=0.444603,0.891953&oq
 =the+showdown&t=h&z=17&iwloc=A
URL:https://maps.google.com/maps?q=The+Showdown,+6th+Street,+San+Franc
 isco,+CA&hl=en&sll=37.758475,-122.235328&sspn=0.444603,0.891953&oq=the
 +showdown&t=h&z=17&iwloc=A
CONTACT:
ORGANIZER;CN=phillipdrummond:https://trueskool.com/profile/phillipdrum
 mond
ATTACH;FMTTYPE="image/jpeg":http://storage.ning.com/topology/rest/1.0/
 file/get/2247962074?profile=original
ATTENDEE;ROLE=REQ-PARTICIPANT;PARTSTAT=ACCEPTED;RSVP=TRUE;CN=phillipdr
 ummond:https://trueskool.com/profile/phillipdrummond
END:VEVENT
END:VCALENDAR
