BEGIN:VCALENDAR
PRODID:NingEventWidget-v1
VERSION:2.0
METHOD:PUBLISH
BEGIN:VTIMEZONE
TZID:America/Los_Angeles
X-LIC-LOCATION:America/Los_Angeles
BEGIN:DAYLIGHT
TZOFFSETFROM:-0800
TZOFFSETTO:-0700
TZNAME:PDT
DTSTART:19700308T020000
RRULE:FREQ=YEARLY;BYMONTH=3;BYDAY=2SU
END:DAYLIGHT
BEGIN:STANDARD
TZOFFSETFROM:-0700
TZOFFSETTO:-0800
TZNAME:PST
DTSTART:19701101T020000
RRULE:FREQ=YEARLY;BYMONTH=11;BYDAY=1SU
END:STANDARD
END:VTIMEZONE
BEGIN:VEVENT
UID:1464587:Event:33362
DTSTAMP:20260421T094620Z
SUMMARY:Temple of Illumination
DESCRIPTION:\n\nSeven7Sisters Productions Humbly Presents...\n\n\"Temp
 le of illumination\"\nBridging the Worlds\nin Oakland & San Francisco\
 n\nJune 6th - 2pm-12am - ALL AGES\n@ the East Bay Church of Religious 
 Science\n4130 Telegraph Ave. Oakland, CA\n\nJune 7th - 7pm-4am - 21+\n
 @ Temple SF\n540 Howard @ 1st\nSan Francisco, CA\n\nTickets to Each Ev
 ent\n$20 @ the Door\n$18 Advance @ http://www.brownpapertickets.com/ev
 ent/65573\n\nEvent Details @ HTTP://WWW.POWERSOFTHESPHINX.COM\n\nFeatu
 ring\nSoulflower “Empress of Hip Hop” (Miami)\nPoetic Pilgrimage (
 U.K.)\nJaya Lakshmi\nGoddess Alchemy Project\nand Seven7Sisters Sacred
  Sound Theater\n\nThe Elders Council:\nAriel Spilsbury (Hawaii)\nAunti
 e Maile Shaw (Hawaii)\nAuntie Pua (Hawaii)\nGrandmother Agnes of The 1
 3 Indigenous Grandmothers (West Coast)\nImakhu Mwt Shekemet, Kemetic H
 igh Priestess (New York)\nMahaelani Oliver (Hawaii)\nRev. Eloiuse Oliv
 er (Oakland)\nand Swami Atmananda (New York)\n\nLive Performances by\n
 Abai\nAnahata Sound\nCohen\nDavid Starfire\nAima the Dreamer\nIllumina
 ted Experience\nIsis Indriya\nKirtan w/ Jaya Lakshmi\nLotus Drops\nOmi
 e'1\nSasha Rose\nSolus\nSoul Union\nStarsinger\nWaterjuice\nand much m
 ore!\n\nLive Art and Visuals by\nAndrew Jones\nGoddessence\nIcarus Zau
 re & Jessica Atreides\nMama Wisdom\nManifest Media\nOmie'1\nPhong\nSoh
 a\nTawk\nXavi\n\nThe Seven7Sisters Sacred Sound Theater\nStarsinger\nA
 nahata Sound\nIma\nKaia Ra\nKristi Bluestar\nLaurel Kitten\nNiema Ligh
 tseed\nRigzin\nTBird luv\nThinley Wangmo\n\nThe Seven7Sisters producti
 ons is an international collective of performers, healers, spiritual l
 eaders and digital artists dedicated to world service.\n\nProceeds gen
 erated from this event will go to Amma’s Charities: The MA Foundatio
 n.\n\nTo find out more about Amma please go to her website http://www.
 amma.org\n\nWith Love and Appreciation to all our sponsors\nBeats for 
 Peace\nCoconut Bliss\nCommon Ground\nConscious Dancer\nCreate Change\n
 Cyphertown\nEnlightening Films, Music and Media\nGypsyPop\niiiTAWK\nIl
 luminated Experience\nJHuman\nManifest Media\nNative Water Works\nOcta
 ve Arts\nOm grown Om chow\nQueendome\nSamadhi Healing Arts\n\n\nThe wo
 rld is like a flower and if one part of the flower is suffering it wil
 l effect the rest of the flower. –Amma\n\nMore Info at:\nHTTP://WWW.
 POWERSOFTHESPHINX.COM\n\nFor more information visit https://trueskool.
 com/events/temple-of-illumination
DTSTART;TZID=America/Los_Angeles:20090606T140000
DTEND;TZID=America/Los_Angeles:20090607T040000
CATEGORIES:electronica, house
LOCATION:East Bay Church of Religious Science, Oakland & Temple, San F
 rancisco
WEBSITE:http://www.brownpapertickets.com/event/65573
URL:http://www.brownpapertickets.com/event/65573
CONTACT:
ORGANIZER:Seven7Sisters Productions
ATTACH;FMTTYPE="image/jpeg":http://storage.ning.com/topology/rest/1.0/
 file/get/2068658039?profile=original
ATTENDEE;ROLE=REQ-PARTICIPANT;PARTSTAT=ACCEPTED;RSVP=TRUE;CN="Editor's
  Pick":https://trueskool.com/profile/RentheVinylArchaeologist
END:VEVENT
END:VCALENDAR
