BEGIN:VCALENDAR
PRODID:NingEventWidget-v1
VERSION:2.0
METHOD:PUBLISH
BEGIN:VTIMEZONE
TZID:America/Los_Angeles
X-LIC-LOCATION:America/Los_Angeles
BEGIN:DAYLIGHT
TZOFFSETFROM:-0800
TZOFFSETTO:-0700
TZNAME:PDT
DTSTART:19700308T020000
RRULE:FREQ=YEARLY;BYMONTH=3;BYDAY=2SU
END:DAYLIGHT
BEGIN:STANDARD
TZOFFSETFROM:-0700
TZOFFSETTO:-0800
TZNAME:PST
DTSTART:19701101T020000
RRULE:FREQ=YEARLY;BYMONTH=11;BYDAY=1SU
END:STANDARD
END:VTIMEZONE
BEGIN:VEVENT
UID:1464587:Event:63493
DTSTAMP:20260420T113210Z
SUMMARY:Teedra Moses (WIN TICKETS)
DESCRIPTION:CLICK HERE TO WIN A PAIR OF TICKETS:\nhttp://www.trueskool
 .com/group/wintickets\n\nSep 01-Sep 2, 2010\nTeedra Moses\n\nWednesday
 \n8PM: $22\n\nThursday\n8PM: $22\n10PM: $22\n\nYoshi's Oakland\n510 Em
 barcadero West\nJack London Square\nOakland, CA 94607\nPhone: 510.238.
 9200\n» BUY TICKETS\n\n\nFor more information visit https://trueskool
 .com/events/teedra-moses-win-tickets
DTSTART;TZID=America/Los_Angeles:20100901T200000
DTEND;TZID=America/Los_Angeles:20100902T233000
CATEGORIES:bay, area, oakland, ca
LOCATION:Yoshi's, Oakland, CA
WEBSITE:http://yoshis.inticketing.com/evlist.php?events=search&searchs
 tr=teedra&smonth=0&sday=0&syear=0&vstate=0
URL:http://yoshis.inticketing.com/evlist.php?events=search&searchstr=t
 eedra&smonth=0&sday=0&syear=0&vstate=0
CONTACT:
ORGANIZER:Yoshi's
ATTACH;FMTTYPE="image/jpeg":http://storage.ning.com/topology/rest/1.0/
 file/get/2247882533?profile=original
ATTENDEE;ROLE=REQ-PARTICIPANT;PARTSTAT=ACCEPTED;RSVP=TRUE;CN="Ren the 
 Vinyl Archaeologist":https://trueskool.com/profile/xh51jvilojur
END:VEVENT
END:VCALENDAR
