BEGIN:VCALENDAR
PRODID:NingEventWidget-v1
VERSION:2.0
METHOD:PUBLISH
BEGIN:VTIMEZONE
TZID:America/Los_Angeles
X-LIC-LOCATION:America/Los_Angeles
BEGIN:DAYLIGHT
TZOFFSETFROM:-0800
TZOFFSETTO:-0700
TZNAME:PDT
DTSTART:19700308T020000
RRULE:FREQ=YEARLY;BYMONTH=3;BYDAY=2SU
END:DAYLIGHT
BEGIN:STANDARD
TZOFFSETFROM:-0700
TZOFFSETTO:-0800
TZNAME:PST
DTSTART:19701101T020000
RRULE:FREQ=YEARLY;BYMONTH=11;BYDAY=1SU
END:STANDARD
END:VTIMEZONE
BEGIN:VEVENT
UID:1464587:Event:658664
DTSTAMP:20260423T114956Z
SUMMARY:Tech N9ne (WIN TICKETS)
DESCRIPTION: ENTER TO WIN A PAIR OF TICKETS. WINNER WILL BE DRAWN RAND
 OMLY AND ANNOUNCED 2 DAYS PRIOR TO EVENT.    Tuesday Apr 11, 2017\nLe
 ft Coast Concerts presents  Tech N9ne  Brotha Lynch Hung, Krizz Kaliko
 , Stevie Stone, Ces Cru\n\nThe UC Theatre Taube Family Music Hall, 203
 6 University Avenue Berkeley, CA\nDoors: 7:00 PM. Show: 8:00 PM $30\n>
 > BUY TICKETS \n\n\n\nFor more information visit https://trueskool.com
 /events/tech-n9ne-win-tickets-1
DTSTART;TZID=America/Los_Angeles:20170411T190000
DTEND;TZID=America/Los_Angeles:20170411T230000
CATEGORIES:"bay area", "san francisco"
LOCATION:UC Theatre, Berkeley
WEBSITE:https://www.ticketfly.com/purchase/event/1421565?q=1f96dfac-3a
 eb-479a-bf55-a7ab707a8118&p=1f491839-9e9b-40e3-b9d7-c3978e9be77a&ts=14
 85990872&c=ticketfly&e=003355a&rt=Safetynet&h=7960a7ff9c7d733db6d32a72
 4328bb85
URL:https://www.ticketfly.com/purchase/event/1421565?q=1f96dfac-3aeb-4
 79a-bf55-a7ab707a8118&p=1f491839-9e9b-40e3-b9d7-c3978e9be77a&ts=148599
 0872&c=ticketfly&e=003355a&rt=Safetynet&h=7960a7ff9c7d733db6d32a724328
 bb85
CONTACT:
ORGANIZER:UC Theatre
ATTACH;FMTTYPE="image/jpeg":http://storage.ning.com/topology/rest/1.0/
 file/get/2247994874?profile=original
ATTENDEE;ROLE=REQ-PARTICIPANT;PARTSTAT=ACCEPTED;RSVP=TRUE;CN="Elisa Bj
 eldanes":https://trueskool.com/profile/ElisaBjeldanes
ATTENDEE;ROLE=REQ-PARTICIPANT;PARTSTAT=ACCEPTED;RSVP=TRUE;CN="Editor's
  Pick":https://trueskool.com/profile/RentheVinylArchaeologist
END:VEVENT
END:VCALENDAR
