BEGIN:VCALENDAR
PRODID:NingEventWidget-v1
VERSION:2.0
METHOD:PUBLISH
BEGIN:VTIMEZONE
TZID:America/Los_Angeles
X-LIC-LOCATION:America/Los_Angeles
BEGIN:DAYLIGHT
TZOFFSETFROM:-0800
TZOFFSETTO:-0700
TZNAME:PDT
DTSTART:19700308T020000
RRULE:FREQ=YEARLY;BYMONTH=3;BYDAY=2SU
END:DAYLIGHT
BEGIN:STANDARD
TZOFFSETFROM:-0700
TZOFFSETTO:-0800
TZNAME:PST
DTSTART:19701101T020000
RRULE:FREQ=YEARLY;BYMONTH=11;BYDAY=1SU
END:STANDARD
END:VTIMEZONE
BEGIN:VEVENT
UID:1464587:Event:360202
DTSTAMP:20260421T032817Z
SUMMARY:Tech N9ne
DESCRIPTION:SPECS\n\nThe Regency Ballroom\nSan Francisco, CA\nMonday J
 une 2, 2014\nShow time: 8:00pm\nDoor time: 7:00pm\nAge: All Ages+\n\n\
 nTICKETS\n\nTickets Available: Friday February 14, 2014\n$30.00*\n* Se
 rvice and/or handling fees are added to the price of each ticket.\n\n\
 n\nFor more information visit https://trueskool.com/events/tech-n9ne-1
DTSTART;TZID=America/Los_Angeles:20140602T200000
DTEND;TZID=America/Los_Angeles:20140602T230000
CATEGORIES:"bay area", "san francisco", oakland
LOCATION:The Regency Ballroom, San Francisco
WEBSITE:http://www.axs.com/events/248358/tech-n9ne-tickets?skin=golden
 voice
URL:http://www.axs.com/events/248358/tech-n9ne-tickets?skin=goldenvoic
 e
CONTACT:
ORGANIZER;CN="Editor's Pick":https://trueskool.com/profile/RentheVinyl
 Archaeologist
ATTACH;FMTTYPE="image/jpeg":http://storage.ning.com/topology/rest/1.0/
 file/get/2247961550?profile=original
ATTENDEE;ROLE=REQ-PARTICIPANT;PARTSTAT=ACCEPTED;RSVP=TRUE;CN="James Mi
 chael Federighi":https://trueskool.com/profile/JamesMichaelFederighi
ATTENDEE;ROLE=REQ-PARTICIPANT;PARTSTAT=ACCEPTED;RSVP=TRUE;CN="Editor's
  Pick":https://trueskool.com/profile/RentheVinylArchaeologist
END:VEVENT
END:VCALENDAR
