BEGIN:VCALENDAR
PRODID:NingEventWidget-v1
VERSION:2.0
METHOD:PUBLISH
BEGIN:VTIMEZONE
TZID:America/Los_Angeles
X-LIC-LOCATION:America/Los_Angeles
BEGIN:DAYLIGHT
TZOFFSETFROM:-0800
TZOFFSETTO:-0700
TZNAME:PDT
DTSTART:19700308T020000
RRULE:FREQ=YEARLY;BYMONTH=3;BYDAY=2SU
END:DAYLIGHT
BEGIN:STANDARD
TZOFFSETFROM:-0700
TZOFFSETTO:-0800
TZNAME:PST
DTSTART:19701101T020000
RRULE:FREQ=YEARLY;BYMONTH=11;BYDAY=1SU
END:STANDARD
END:VTIMEZONE
BEGIN:VEVENT
UID:1464587:Event:678717
DTSTAMP:20260421T094550Z
SUMMARY:TASH SULTANA
DESCRIPTION:Two Nights! Flow State World Tour\r\nTASH SULTANA Ocean Al
 ley\r\nFox Theater Oakland, CA\r\nThursday, November 29, 2018 Doors: 7
 :00pm | Show: 8:00pm\r\nFriday, November 30, 2018 Doors: 7:00pm | Show
 : 8:00pm\r\nTickets for November 29th are sold out. 2nd show added by 
 popular demand on November 30th! More info & tickets available HERE!\r
 \n$45.00 – General Admission Floor $45.00 – Reserved Balcony\r\n*p
 lus applicable service fees\r\nFor an additional $50.00, you can opt i
 n to upgrade your experience to include access to the exclusive Telegr
 aph Room before, during and after the show!\r\nJoin us at The Den one 
 hour before doors for food & drinks!\r\nAll doors & show times subject
  to change.\n\nFor more information visit https://trueskool.com/events
 /tash-sultana
DTSTART;TZID=America/Los_Angeles:20181129T200000
DTEND;TZID=America/Los_Angeles:20181130T230000
CATEGORIES:"bay area", oakland, "san francisco", "san jose", berkeley
LOCATION:Fox Theater, Oakland
WEBSITE:https://www.ticketmaster.com/tash-sultana-oakland-california-1
 1-30-2018/event/1C00550CD0A4961A?camefrom=CFC_ANOTHERPLANET_web&amp;br
 and=anotherplanet
URL:https://www.ticketmaster.com/tash-sultana-oakland-california-11-30
 -2018/event/1C00550CD0A4961A?camefrom=CFC_ANOTHERPLANET_web&amp;brand=
 anotherplanet
CONTACT:
ORGANIZER;CN="Editor's Pick":https://trueskool.com/profile/RentheVinyl
 Archaeologist
ATTACH;FMTTYPE="image/jpeg":http://storage.ning.com/topology/rest/1.0/
 file/get/2248011229?profile=original
ATTENDEE;ROLE=REQ-PARTICIPANT;PARTSTAT=ACCEPTED;RSVP=TRUE;CN="Editor's
  Pick":https://trueskool.com/profile/RentheVinylArchaeologist
END:VEVENT
END:VCALENDAR
