BEGIN:VCALENDAR
PRODID:NingEventWidget-v1
VERSION:2.0
METHOD:PUBLISH
BEGIN:VTIMEZONE
TZID:America/Los_Angeles
X-LIC-LOCATION:America/Los_Angeles
BEGIN:DAYLIGHT
TZOFFSETFROM:-0800
TZOFFSETTO:-0700
TZNAME:PDT
DTSTART:19700308T020000
RRULE:FREQ=YEARLY;BYMONTH=3;BYDAY=2SU
END:DAYLIGHT
BEGIN:STANDARD
TZOFFSETFROM:-0700
TZOFFSETTO:-0800
TZNAME:PST
DTSTART:19701101T020000
RRULE:FREQ=YEARLY;BYMONTH=11;BYDAY=1SU
END:STANDARD
END:VTIMEZONE
BEGIN:VEVENT
UID:1464587:Event:62065
DTSTAMP:20260421T035725Z
SUMMARY:Tarrus Riley
DESCRIPTION:MONDAY, JULY 26\nANGEL MAGIK PROUDLY PRESENTS\nGRAMMY AWAR
 D NOMINEE/ REGGAE ACADEMY AWARD WINNER, REGGAE SUPERSTAR\nTARRUS RILEY
  LIVE\nW/ FULL BAND FEAT DEAN FRASER ON SAX\nplus CALICO\n\nPLUS\nDJ I
 RIE DOLE (JAH WARRIOR SHELTER)\nDJ SERG\n\n2 FOR 1 DRINK SPECIALS \nC
 OME FOR DINNER HOT CARIBBEAN FOOD WILL BE ON SALE\n\n@ SHATTUCK DOWN L
 OW, 2284 SHATTUCK AVE, BERKELEY\nDOORS 8PM. SHOW TIME 11PM SHARP.\nGET
  LIMITED $10 TICKETS NOW. ONLY 100.\nhttp://tarrusriley.eventbrite.com
 /\n\nFor more information visit https://trueskool.com/events/tarrus-ri
 ley
DTSTART;TZID=America/Los_Angeles:20100726T220000
DTEND;TZID=America/Los_Angeles:20100727T020000
CATEGORIES:reggae, dancehall
LOCATION:Shattuck Down Low, Berkeley
WEBSITE:http://tarrusriley.eventbrite.com/
URL:http://tarrusriley.eventbrite.com/
CONTACT:
ORGANIZER;CN="Ren the Vinyl Archaeologist":https://trueskool.com/profi
 le/xh51jvilojur
ATTACH;FMTTYPE="image/jpeg":http://storage.ning.com/topology/rest/1.0/
 file/get/2247883475?profile=original
ATTENDEE;ROLE=REQ-PARTICIPANT;PARTSTAT=ACCEPTED;RSVP=TRUE;CN="Ren the 
 Vinyl Archaeologist":https://trueskool.com/profile/xh51jvilojur
END:VEVENT
END:VCALENDAR
