BEGIN:VCALENDAR
PRODID:NingEventWidget-v1
VERSION:2.0
METHOD:PUBLISH
BEGIN:VTIMEZONE
TZID:America/Los_Angeles
X-LIC-LOCATION:America/Los_Angeles
BEGIN:DAYLIGHT
TZOFFSETFROM:-0800
TZOFFSETTO:-0700
TZNAME:PDT
DTSTART:19700308T020000
RRULE:FREQ=YEARLY;BYMONTH=3;BYDAY=2SU
END:DAYLIGHT
BEGIN:STANDARD
TZOFFSETFROM:-0700
TZOFFSETTO:-0800
TZNAME:PST
DTSTART:19701101T020000
RRULE:FREQ=YEARLY;BYMONTH=11;BYDAY=1SU
END:STANDARD
END:VTIMEZONE
BEGIN:VEVENT
UID:1464587:Event:666238
DTSTAMP:20260421T111952Z
SUMMARY:Tarrus Riley
DESCRIPTION:ENTER TO WIN A PAIR OF TICKETS. WINNER WILL BE DRAWN RANDO
 MLY AND ANNOUNCED 2 DAYS PRIOR TO EVENT.\r\n\r\nFri, September 22, 201
 7 Tarrus Riley Fiji, DJ Green B\r\n\r\n@ The UC Theatre, Berkeley Door
 s: 7:00 pm / Show: 8:00 pm $39.50\r\n>> BUY TICKETS\r\n\r\n\n\nFor mor
 e information visit https://trueskool.com/events/tarrus-riley-1
DTSTART;TZID=America/Los_Angeles:20170922T190000
DTEND;TZID=America/Los_Angeles:20170922T230000
CATEGORIES:"san francisco", oakland, berkley, "san jose", "bay area"
LOCATION:The UC Theatre, Berkley
WEBSITE:https://www.ticketfly.com/purchase/event/1530117?_ga=2.6613620
 .712299664.1502903649-1824008778.1502903649
URL:https://www.ticketfly.com/purchase/event/1530117?_ga=2.6613620.712
 299664.1502903649-1824008778.1502903649
CONTACT:
ORGANIZER;CN="Editor's Pick":https://trueskool.com/profile/RentheVinyl
 Archaeologist
ATTACH;FMTTYPE="image/jpeg":http://storage.ning.com/topology/rest/1.0/
 file/get/2248000652?profile=original
ATTENDEE;ROLE=REQ-PARTICIPANT;PARTSTAT=ACCEPTED;RSVP=TRUE;CN="Editor's
  Pick":https://trueskool.com/profile/RentheVinylArchaeologist
END:VEVENT
END:VCALENDAR
