BEGIN:VCALENDAR
PRODID:NingEventWidget-v1
VERSION:2.0
METHOD:PUBLISH
BEGIN:VTIMEZONE
TZID:America/Los_Angeles
X-LIC-LOCATION:America/Los_Angeles
BEGIN:DAYLIGHT
TZOFFSETFROM:-0800
TZOFFSETTO:-0700
TZNAME:PDT
DTSTART:19700308T020000
RRULE:FREQ=YEARLY;BYMONTH=3;BYDAY=2SU
END:DAYLIGHT
BEGIN:STANDARD
TZOFFSETFROM:-0700
TZOFFSETTO:-0800
TZNAME:PST
DTSTART:19701101T020000
RRULE:FREQ=YEARLY;BYMONTH=11;BYDAY=1SU
END:STANDARD
END:VTIMEZONE
BEGIN:VEVENT
UID:1464587:Event:41598
DTSTAMP:20260421T005543Z
SUMMARY:Tanto Metro & Devonte
DESCRIPTION:October 22nd Tanto Metro & Devonte w/The Detour Posse Live
  in Concert at DNA Lounge with Special Guest DJ Ivier and DJ Nappy Tic
 kets on Sale now at www.dnalounge.com $20 Pre-Sale $25 at Door Spread 
 the Word.................\n\nFor more information visit https://truesk
 ool.com/events/tanto-metro-devonte
DTSTART;TZID=America/Los_Angeles:20091022T210000
DTEND;TZID=America/Los_Angeles:20091023T020000
CATEGORIES:"reggae/dancehall"
LOCATION:DNA Lounge, San Francisco, CA
WEBSITE:http://www.dnalounge.com
URL:http://www.dnalounge.com
CONTACT:
ORGANIZER;CN="JAM Presents":https://trueskool.com/profile/JAMPresents
ATTACH;FMTTYPE="image/jpeg":http://storage.ning.com/topology/rest/1.0/
 file/get/2247866517?profile=original
ATTENDEE;ROLE=REQ-PARTICIPANT;PARTSTAT=ACCEPTED;RSVP=TRUE;CN="JAM Pres
 ents":https://trueskool.com/profile/JAMPresents
END:VEVENT
END:VCALENDAR
