BEGIN:VCALENDAR
PRODID:NingEventWidget-v1
VERSION:2.0
METHOD:PUBLISH
BEGIN:VTIMEZONE
TZID:America/Los_Angeles
X-LIC-LOCATION:America/Los_Angeles
BEGIN:DAYLIGHT
TZOFFSETFROM:-0800
TZOFFSETTO:-0700
TZNAME:PDT
DTSTART:19700308T020000
RRULE:FREQ=YEARLY;BYMONTH=3;BYDAY=2SU
END:DAYLIGHT
BEGIN:STANDARD
TZOFFSETFROM:-0700
TZOFFSETTO:-0800
TZNAME:PST
DTSTART:19701101T020000
RRULE:FREQ=YEARLY;BYMONTH=11;BYDAY=1SU
END:STANDARD
END:VTIMEZONE
BEGIN:VEVENT
UID:1464587:Event:811020
DTSTAMP:20260421T140305Z
SUMMARY:Talib Kweli (WIN TICKETS)
DESCRIPTION:ENTER TO WIN A PAIR OF TICKETS. WINNER WILL BE DRAWN RANDO
 MLY AND ANNOUNCED 2 DAYS PRIOR TO EVENT. \r\n \r\n\r\nSATURDAY, SEPT 
 10\r\n TALIB KWELI\r\n\r\n@ Yoshi's, 510 Embarcadero, Oakland\r\n 1st 
 Show: 7:30pm / 2nd Show: 9:30pm\r\n >> BUY TICKETS\r\n\r\n\r\n\n\nFor 
 more information visit https://trueskool.com/events/talib-kweli-win-ti
 ckets-1
DTSTART;TZID=America/Los_Angeles:20220910T193000
DTEND;TZID=America/Los_Angeles:20220910T223000
CATEGORIES:"bay area", oakland
LOCATION:Yoshi's, Oakland
WEBSITE:https://yoshis.com/events/buy-tickets/talib-kweli-2/detail
URL:https://yoshis.com/events/buy-tickets/talib-kweli-2/detail
CONTACT:
ORGANIZER:Yoshi's
ATTACH;FMTTYPE="image/jpeg":https://storage.ning.com/topology/rest/1.0
 /file/get/10784781696?profile=original
ATTENDEE;ROLE=REQ-PARTICIPANT;PARTSTAT=ACCEPTED;RSVP=TRUE;CN="Editor's
  Pick":https://trueskool.com/profile/RentheVinylArchaeologist
END:VEVENT
END:VCALENDAR
