BEGIN:VCALENDAR
PRODID:NingEventWidget-v1
VERSION:2.0
METHOD:PUBLISH
BEGIN:VTIMEZONE
TZID:America/Los_Angeles
X-LIC-LOCATION:America/Los_Angeles
BEGIN:DAYLIGHT
TZOFFSETFROM:-0800
TZOFFSETTO:-0700
TZNAME:PDT
DTSTART:19700308T020000
RRULE:FREQ=YEARLY;BYMONTH=3;BYDAY=2SU
END:DAYLIGHT
BEGIN:STANDARD
TZOFFSETFROM:-0700
TZOFFSETTO:-0800
TZNAME:PST
DTSTART:19701101T020000
RRULE:FREQ=YEARLY;BYMONTH=11;BYDAY=1SU
END:STANDARD
END:VTIMEZONE
BEGIN:VEVENT
UID:1464587:Event:59997
DTSTAMP:20260421T083109Z
SUMMARY:TALIB KWELI Spinning on the 1's & 2's
DESCRIPTION:TALIB KWELI Spinning on the 1's & 2's\n\nPST LIVE @ YOSHI'
 S SF FRIDAY NITE\n\nHIP-HOP.COM & ANKH MARKETING\n\nPRESENT\n\nTALIB K
 WELI W/ DJ APOLLO\n\nSPINNING A RARE AND EXCLUSIVE DJ SET LIVE!!!\n\nF
 RIDAY JUNE 25TH\n\nAT YOSHI'S SAN FRANCISCO DOORS AT 10:00PM\n\n21+ CO
 ME FITTED & FLY TIX AVAILABLE\n\nTickets are now $10\n\nFor bottle ser
 vice please contact: Shamilah Ivory\nvia shamilah@yoshis.com\n\nFor mo
 re information visit https://trueskool.com/events/talib-kweli-spinning
 -on-the-1s
DTSTART;TZID=America/Los_Angeles:20100625T220000
DTEND;TZID=America/Los_Angeles:20100626T010000
CATEGORIES:"21+", hip, hop
LOCATION:Yoshi's, San Francisco, CA
WEBSITE:http://talibdjset.eventbrite.com/
URL:http://talibdjset.eventbrite.com/
CONTACT:
ORGANIZER;CN="Editor's Pick":https://trueskool.com/profile/RentheVinyl
 Archaeologist
ATTACH;FMTTYPE="image/jpeg":http://storage.ning.com/topology/rest/1.0/
 file/get/2247882269?profile=original
ATTENDEE;ROLE=REQ-PARTICIPANT;PARTSTAT=ACCEPTED;RSVP=TRUE;CN="Editor's
  Pick":https://trueskool.com/profile/RentheVinylArchaeologist
END:VEVENT
END:VCALENDAR
