BEGIN:VCALENDAR
PRODID:NingEventWidget-v1
VERSION:2.0
METHOD:PUBLISH
BEGIN:VTIMEZONE
TZID:America/Los_Angeles
X-LIC-LOCATION:America/Los_Angeles
BEGIN:DAYLIGHT
TZOFFSETFROM:-0800
TZOFFSETTO:-0700
TZNAME:PDT
DTSTART:19700308T020000
RRULE:FREQ=YEARLY;BYMONTH=3;BYDAY=2SU
END:DAYLIGHT
BEGIN:STANDARD
TZOFFSETFROM:-0700
TZOFFSETTO:-0800
TZNAME:PST
DTSTART:19701101T020000
RRULE:FREQ=YEARLY;BYMONTH=11;BYDAY=1SU
END:STANDARD
END:VTIMEZONE
BEGIN:VEVENT
UID:1464587:Event:678341
DTSTAMP:20260421T082831Z
SUMMARY:Talib Kweli
DESCRIPTION:\r\nSUNDAY, DEC 9 Hip Hop for Change & Sierra Club pre
 sent  The 3rd Annual Environmental Equity Summit Featuring  Talib K
 weli   @ Cornerstone, 2367 Shattuck Ave., Berkeley, CA Doors: 7:00 PM
  / Show: 8:00 PM All Ages. $20 in advance / $25 at the door Tickets on
  sale Friday, 9/14 Tickets: https://www.ticketfly.com/purchase/event/
 1762869\r\n\n\nFor more information visit https://trueskool.com/events
 /talib-kweli-8
DTSTART;TZID=America/Los_Angeles:20181209T190000
DTEND;TZID=America/Los_Angeles:20181210T140000
CATEGORIES:"bay area", berkeley
LOCATION:Cornerstone, Berkeley
WEBSITE:https://www.ticketfly.com/purchase/event/1762869
URL:https://www.ticketfly.com/purchase/event/1762869
CONTACT:
ORGANIZER:Hip Hop For Change
ATTACH;FMTTYPE="image/jpeg":http://storage.ning.com/topology/rest/1.0/
 file/get/2248009907?profile=original
ATTENDEE;ROLE=REQ-PARTICIPANT;PARTSTAT=ACCEPTED;RSVP=TRUE;CN="Editor's
  Pick":https://trueskool.com/profile/RentheVinylArchaeologist
END:VEVENT
END:VCALENDAR
