BEGIN:VCALENDAR
PRODID:NingEventWidget-v1
VERSION:2.0
METHOD:PUBLISH
BEGIN:VTIMEZONE
TZID:America/Los_Angeles
X-LIC-LOCATION:America/Los_Angeles
BEGIN:DAYLIGHT
TZOFFSETFROM:-0800
TZOFFSETTO:-0700
TZNAME:PDT
DTSTART:19700308T020000
RRULE:FREQ=YEARLY;BYMONTH=3;BYDAY=2SU
END:DAYLIGHT
BEGIN:STANDARD
TZOFFSETFROM:-0700
TZOFFSETTO:-0800
TZNAME:PST
DTSTART:19701101T020000
RRULE:FREQ=YEARLY;BYMONTH=11;BYDAY=1SU
END:STANDARD
END:VTIMEZONE
BEGIN:VEVENT
UID:1464587:Event:673373
DTSTAMP:20260421T082831Z
SUMMARY:Talib Kweli
DESCRIPTION:ENTER TO WIN A PAIR OF TICKETS. WINNER WILL BE DRAWN RANDO
 MLY AND ANNOUNCED 2 DAYS PRIOR TO EVENT. \r\n\r\nTuesday, March 06, 20
 18\r\nTALIB KWELI PRESENTS THE RADIO SILENCE TOUR\r\nNiko Is  DJ Spint
 elect\r\n\r\nThe Independent, San Francisco, CA Doors: 7:30pm | Show: 
 8:00pm\r\nThis event is 21 and over.\r\n$25.00 – General Admission\r
 \n*plus applicable service fees\r\nTickets available at The Independen
 t box office (628 Divisadero, SF) with no service charge.\r\n>> BUY TI
 CKETS\r\n\r\n\r\n\n\nFor more information visit https://trueskool.com/
 events/talib-kweli-7
DTSTART;TZID=America/Los_Angeles:20180306T193000
DTEND;TZID=America/Los_Angeles:20180306T230000
CATEGORIES:"bay area", oakland, "san francisco", "san jose", berkeley
LOCATION:The Independent, San Francisco
WEBSITE:https://www.ticketfly.com/purchase/event/1641184
URL:https://www.ticketfly.com/purchase/event/1641184
CONTACT:
ORGANIZER;CN="Editor's Pick":https://trueskool.com/profile/RentheVinyl
 Archaeologist
ATTACH;FMTTYPE="image/jpeg":http://storage.ning.com/topology/rest/1.0/
 file/get/2248004160?profile=original
ATTENDEE;ROLE=REQ-PARTICIPANT;PARTSTAT=ACCEPTED;RSVP=TRUE;CN="Elisa Bj
 eldanes":https://trueskool.com/profile/ElisaBjeldanes
ATTENDEE;ROLE=REQ-PARTICIPANT;PARTSTAT=ACCEPTED;RSVP=TRUE;CN="Editor's
  Pick":https://trueskool.com/profile/RentheVinylArchaeologist
END:VEVENT
END:VCALENDAR
