BEGIN:VCALENDAR
PRODID:NingEventWidget-v1
VERSION:2.0
METHOD:PUBLISH
BEGIN:VTIMEZONE
TZID:America/Los_Angeles
X-LIC-LOCATION:America/Los_Angeles
BEGIN:DAYLIGHT
TZOFFSETFROM:-0800
TZOFFSETTO:-0700
TZNAME:PDT
DTSTART:19700308T020000
RRULE:FREQ=YEARLY;BYMONTH=3;BYDAY=2SU
END:DAYLIGHT
BEGIN:STANDARD
TZOFFSETFROM:-0700
TZOFFSETTO:-0800
TZNAME:PST
DTSTART:19701101T020000
RRULE:FREQ=YEARLY;BYMONTH=11;BYDAY=1SU
END:STANDARD
END:VTIMEZONE
BEGIN:VEVENT
UID:1464587:Event:672308
DTSTAMP:20260421T094552Z
SUMMARY:Talib Kweli
DESCRIPTION:ENTER TO WIN A PAIR OF TICKETS. WINNER WILL BE DRAWN RANDO
 MLY AND ANNOUNCED 2 DAYS PRIOR TO EVENT.\r\n\r\n\r\n\r\nMonday, March 
 05, 2018\r\nTALIB KWELI PRESENTS THE RADIO SILENCE TOUR\r\nNiko Is\r\n
   DJ Spintelect\r\n\r\nThe Independent, San Francisco, CA\r\n Doors: 7
 :30pm | Show: 8:00pm\r\nThis event is 21 and over.\r\n$25.00 – Gener
 al Admission\r\n*plus applicable service fees\r\nTickets available at 
 The Independent box office (628 Divisadero, SF) with no service charge
 .\r\n>> BUY TICKETS\r\n\r\n\r\n\n\nFor more information visit https://
 trueskool.com/events/talib-kweli-6
DTSTART;TZID=America/Los_Angeles:20180305T193000
DTEND;TZID=America/Los_Angeles:20180305T230000
CATEGORIES:"bay area", oakland, "san francisco", "san jose", berkeley
LOCATION:The Independent, San Francisco
WEBSITE:https://www.ticketfly.com/purchase/event/1609504?camefrom=CFC_
 ANOTHERPLANET_web&amp;amp;brand=anotherplanet&amp;amp;q=e516d51a-1687-
 45e0-b02e-d7ed97b70251&amp;amp;p=8fc98169-989b-443b-a961-da9f25979cdc&
 amp;amp;ts=1515018392&amp;amp;c=ticketfly&amp;amp;e=0010c&amp;amp;rt=S
 afetynet&amp;amp;h=cae944b0170105a38a5b16873639e3f5
URL:https://www.ticketfly.com/purchase/event/1609504?camefrom=CFC_ANOT
 HERPLANET_web&amp;amp;brand=anotherplanet&amp;amp;q=e516d51a-1687-45e0
 -b02e-d7ed97b70251&amp;amp;p=8fc98169-989b-443b-a961-da9f25979cdc&amp;
 amp;ts=1515018392&amp;amp;c=ticketfly&amp;amp;e=0010c&amp;amp;rt=Safet
 ynet&amp;amp;h=cae944b0170105a38a5b16873639e3f5
CONTACT:
ORGANIZER;CN="Editor's Pick":https://trueskool.com/profile/RentheVinyl
 Archaeologist
ATTACH;FMTTYPE="image/jpeg":http://storage.ning.com/topology/rest/1.0/
 file/get/2248004160?profile=original
ATTENDEE;ROLE=REQ-PARTICIPANT;PARTSTAT=ACCEPTED;RSVP=TRUE;CN=Melissa:h
 ttps://trueskool.com/profile/Melissa
ATTENDEE;ROLE=REQ-PARTICIPANT;PARTSTAT=ACCEPTED;RSVP=TRUE;CN="Elisa Bj
 eldanes":https://trueskool.com/profile/ElisaBjeldanes
ATTENDEE;ROLE=REQ-PARTICIPANT;PARTSTAT=ACCEPTED;RSVP=TRUE;CN="Editor's
  Pick":https://trueskool.com/profile/RentheVinylArchaeologist
END:VEVENT
END:VCALENDAR
