BEGIN:VCALENDAR
PRODID:NingEventWidget-v1
VERSION:2.0
METHOD:PUBLISH
BEGIN:VTIMEZONE
TZID:America/Los_Angeles
X-LIC-LOCATION:America/Los_Angeles
BEGIN:DAYLIGHT
TZOFFSETFROM:-0800
TZOFFSETTO:-0700
TZNAME:PDT
DTSTART:19700308T020000
RRULE:FREQ=YEARLY;BYMONTH=3;BYDAY=2SU
END:DAYLIGHT
BEGIN:STANDARD
TZOFFSETFROM:-0700
TZOFFSETTO:-0800
TZNAME:PST
DTSTART:19701101T020000
RRULE:FREQ=YEARLY;BYMONTH=11;BYDAY=1SU
END:STANDARD
END:VTIMEZONE
BEGIN:VEVENT
UID:1464587:Event:661150
DTSTAMP:20260422T014938Z
SUMMARY:TALIB KWELI
DESCRIPTION:Open Dance Floor !:\nTALIB KWELIThu, May 11, 2017Doors: 7:
 30 PM / Show: 8:00 PMYoshi's OaklandOakland, CA$39.00 - $99.00\n\nOpen
  Dance Floor !:\nTALIB KWELIThu, May 11, 2017Doors: 9:45 PM / Show: 10
 :00 PMYoshi's OaklandOakland, CA$39.00 - $59.00\n\nFor more informatio
 n visit https://trueskool.com/events/talib-kweli-5
DTSTART;TZID=America/Los_Angeles:20170511T200000
DTEND;TZID=America/Los_Angeles:20170511T234500
CATEGORIES:"san francisco", oakland, berkley, "san jose", "bay area"
LOCATION:Yoshi's, Oakland
WEBSITE:http://www.yoshis.com/search/?q=TALIB%20KWELI
URL:http://www.yoshis.com/search/?q=TALIB%20KWELI
CONTACT:
ORGANIZER;CN="Editor's Pick":https://trueskool.com/profile/RentheVinyl
 Archaeologist
ATTACH;FMTTYPE="image/jpeg":http://storage.ning.com/topology/rest/1.0/
 file/get/2247994937?profile=original
ATTENDEE;ROLE=REQ-PARTICIPANT;PARTSTAT=ACCEPTED;RSVP=TRUE;CN="Editor's
  Pick":https://trueskool.com/profile/RentheVinylArchaeologist
END:VEVENT
END:VCALENDAR
