BEGIN:VCALENDAR
PRODID:NingEventWidget-v1
VERSION:2.0
METHOD:PUBLISH
BEGIN:VTIMEZONE
TZID:America/Los_Angeles
X-LIC-LOCATION:America/Los_Angeles
BEGIN:DAYLIGHT
TZOFFSETFROM:-0800
TZOFFSETTO:-0700
TZNAME:PDT
DTSTART:19700308T020000
RRULE:FREQ=YEARLY;BYMONTH=3;BYDAY=2SU
END:DAYLIGHT
BEGIN:STANDARD
TZOFFSETFROM:-0700
TZOFFSETTO:-0800
TZNAME:PST
DTSTART:19701101T020000
RRULE:FREQ=YEARLY;BYMONTH=11;BYDAY=1SU
END:STANDARD
END:VTIMEZONE
BEGIN:VEVENT
UID:1464587:Event:170208
DTSTAMP:20260421T021213Z
SUMMARY:Takin it Back Tuesdays!! 90's hip hop night @doubledutch
DESCRIPTION:The dopest Tuesday night jump off is back again this Tuesd
 ay 2/26 at Double Dutch dropping nothing but the finest in 90's beats!
 The last Takin' it Back was the most cracking ever and we want to than
 k everybody for making this the place to be in SF on a Tuesday. Resid
 ents Mr. Murdock and Roman Nunez will be holding down the wheels of st
 eel and as usual this night is free and with cheap ass drinks to boot!
  2/26 @Double Dutch3192 16TH St., SF9-2AMNo cover/No dress code/Good 
 Times\n\nFor more information visit https://trueskool.com/events/takin
 -it-back-tuesdays-90-s-hip-hop-night-doubledutch-8
DTSTART;TZID=America/Los_Angeles:20130226T210000
DTEND;TZID=America/Los_Angeles:20130227T020000
CATEGORIES:san, francisco, ca
LOCATION:Double Dutch, San Francisco
WEBSITE:
URL:
CONTACT:
ORGANIZER;CN="Dj Mr. Murdock":https://trueskool.com/profile/DjMrMurdoc
 k
ATTACH;FMTTYPE="image/jpeg":http://storage.ning.com/topology/rest/1.0/
 file/get/2247934962?profile=original
ATTENDEE;ROLE=REQ-PARTICIPANT;PARTSTAT=ACCEPTED;RSVP=TRUE;CN="Dj Mr. M
 urdock":https://trueskool.com/profile/DjMrMurdock
END:VEVENT
END:VCALENDAR
