BEGIN:VCALENDAR
PRODID:NingEventWidget-v1
VERSION:2.0
METHOD:PUBLISH
BEGIN:VTIMEZONE
TZID:America/Los_Angeles
X-LIC-LOCATION:America/Los_Angeles
BEGIN:DAYLIGHT
TZOFFSETFROM:-0800
TZOFFSETTO:-0700
TZNAME:PDT
DTSTART:19700308T020000
RRULE:FREQ=YEARLY;BYMONTH=3;BYDAY=2SU
END:DAYLIGHT
BEGIN:STANDARD
TZOFFSETFROM:-0700
TZOFFSETTO:-0800
TZNAME:PST
DTSTART:19701101T020000
RRULE:FREQ=YEARLY;BYMONTH=11;BYDAY=1SU
END:STANDARD
END:VTIMEZONE
BEGIN:VEVENT
UID:1464587:Event:157184
DTSTAMP:20260422T035912Z
SUMMARY:Takin it Back Tuesdays!! 90's hip hop night @doubledutch
DESCRIPTION:Time to bust out your Cross Colours, Motorola Pagers and H
 ammer Pants.....We're hopping in the time machine and dropping you off
  at the dopest party circa 1997.   Resident Dj's Roman Nunez and Mr. 
 Murdock will be the time machine conductors for the night along with s
 uper special guest DJ........(drumroll please)........  .....Ren The V
 inyl Archeologist!   Time machines and Archeologists???? You know we'
 re taking it wayyyyyy back and will be unearthing the 90's hardest hit
 ting bangers, crazy remixes and breaks you've never heard and yes ish 
 like Ice Ice Baby, Informer and Rumpshakers.   1/22/13 @Double Dutch 
 3192 16th St. 9-2AM Free!!!! No dresscode (Hammer Pants highly encoura
 ged haha)\n\nFor more information visit https://trueskool.com/events/t
 akin-it-back-tuesdays-90-s-hip-hop-night-doubledutch-6
DTSTART;TZID=America/Los_Angeles:20130122T210000
DTEND;TZID=America/Los_Angeles:20130123T020000
CATEGORIES:san, francisco
LOCATION:san francisco
WEBSITE:
URL:
CONTACT:
ORGANIZER;CN="Dj Mr. Murdock":https://trueskool.com/profile/DjMrMurdoc
 k
ATTACH;FMTTYPE="image/jpeg":http://storage.ning.com/topology/rest/1.0/
 file/get/2247931633?profile=original
ATTENDEE;ROLE=REQ-PARTICIPANT;PARTSTAT=ACCEPTED;RSVP=TRUE;CN="Dj Mr. M
 urdock":https://trueskool.com/profile/DjMrMurdock
END:VEVENT
END:VCALENDAR
