BEGIN:VCALENDAR
PRODID:NingEventWidget-v1
VERSION:2.0
METHOD:PUBLISH
BEGIN:VTIMEZONE
TZID:America/Los_Angeles
X-LIC-LOCATION:America/Los_Angeles
BEGIN:DAYLIGHT
TZOFFSETFROM:-0800
TZOFFSETTO:-0700
TZNAME:PDT
DTSTART:19700308T020000
RRULE:FREQ=YEARLY;BYMONTH=3;BYDAY=2SU
END:DAYLIGHT
BEGIN:STANDARD
TZOFFSETFROM:-0700
TZOFFSETTO:-0800
TZNAME:PST
DTSTART:19701101T020000
RRULE:FREQ=YEARLY;BYMONTH=11;BYDAY=1SU
END:STANDARD
END:VTIMEZONE
BEGIN:VEVENT
UID:1464587:Event:154666
DTSTAMP:20260421T065323Z
SUMMARY:Takin it Back Tuesdays!! 90's hip hop night @doubledutch
DESCRIPTION:\nWere back in 2013 still keepin' it classic dropping your
  favorite 90's jumpoff jams at Double Dutch every 2nd and 4th Tuesdays
 !   Resident DJs Mr. Murdock and Roman Nunez will be rocking the mega
  boombox all night with special guest........ Dj Stab Master Arson of 
 Debaser in full effect!  Expect to bounce to rare 90's remixes, remini
 sce to legendary songs and dance to those cheesy 90's hits you can fin
 ally admit to loving.   9PM-2AM No Cover No Dresscode Cheap ass drink
 s! 3192 16th St., San Francisco\n\n\n\n\nFor more information visit ht
 tps://trueskool.com/events/takin-it-back-tuesdays-90-s-hip-hop-night-d
 oubledutch-5
DTSTART;TZID=America/Los_Angeles:20130108T210000
DTEND;TZID=America/Los_Angeles:20130109T020000
CATEGORIES:san, francisco
LOCATION:Double Dutch, San Francisco
WEBSITE:
URL:
CONTACT:
ORGANIZER;CN="Dj Mr. Murdock":https://trueskool.com/profile/DjMrMurdoc
 k
ATTACH;FMTTYPE="image/jpeg":http://storage.ning.com/topology/rest/1.0/
 file/get/2247931482?profile=original
ATTENDEE;ROLE=REQ-PARTICIPANT;PARTSTAT=ACCEPTED;RSVP=TRUE;CN="Dj Mr. M
 urdock":https://trueskool.com/profile/DjMrMurdock
END:VEVENT
END:VCALENDAR
