BEGIN:VCALENDAR
PRODID:NingEventWidget-v1
VERSION:2.0
METHOD:PUBLISH
BEGIN:VTIMEZONE
TZID:America/Los_Angeles
X-LIC-LOCATION:America/Los_Angeles
BEGIN:DAYLIGHT
TZOFFSETFROM:-0800
TZOFFSETTO:-0700
TZNAME:PDT
DTSTART:19700308T020000
RRULE:FREQ=YEARLY;BYMONTH=3;BYDAY=2SU
END:DAYLIGHT
BEGIN:STANDARD
TZOFFSETFROM:-0700
TZOFFSETTO:-0800
TZNAME:PST
DTSTART:19701101T020000
RRULE:FREQ=YEARLY;BYMONTH=11;BYDAY=1SU
END:STANDARD
END:VTIMEZONE
BEGIN:VEVENT
UID:1464587:Event:51522
DTSTAMP:20260420T145146Z
SUMMARY:TABOO: The Forbidden Side (Fashion-Art-Music-Lifestyle)
DESCRIPTION:Come join us on Wednesday, April 21, as we redefine the st
 andards of fashion, beauty, and art with the launch of the HAUTE-est e
 vent to hit San Francisco, TABOO: The Forbidden Side(Fashion-Art-Music
 -Lifestyle) at the Barber Lounge in San Francisco.\n\nOur debut event 
 will feature a Lingerie & Swimwear fashion show and trunk sale with K.
  Antoinette Collection, and a live photoshoot with photographer Lala Y
 one’ and wardrobe stylists, COCaCentric. Mix and mingle with The Bay
 ’s fashionistas, artists, VIPs and socialites while enjoying HAUTEbe
 ats by DJ Meezy and Complimentary libations by Smart Energy Cocktails.
 \n\nRunway Show: 8:30 & 9:45\n\n$5 RSVP ($10 at the door) at TabooFash
 ionEvents@gmail.com.\n\nFor more info about the event and our company,
  please visit: www.3sixtyfashion.com\n\nSee you on the FORBIDDEN side!
 !! ;)\n\n\n\n\n\nFor more information visit https://trueskool.com/even
 ts/taboo-the-forbidden-side
DTSTART;TZID=America/Los_Angeles:20100421T190000
DTEND;TZID=America/Los_Angeles:20100421T230000
CATEGORIES:fashion, show, and, mixer
LOCATION:The Barber Lounge, San Francisco, Ca
WEBSITE:http://www.barberlounge.com
URL:http://www.barberlounge.com
CONTACT:
ORGANIZER:Kimberly Ross
ATTACH;FMTTYPE="image/jpeg":http://storage.ning.com/topology/rest/1.0/
 file/get/2247875085?profile=original
ATTENDEE;ROLE=REQ-PARTICIPANT;PARTSTAT=ACCEPTED;RSVP=TRUE;CN="Kimberly
  A. Ross":https://trueskool.com/profile/KimberlyARoss
END:VEVENT
END:VCALENDAR
