BEGIN:VCALENDAR
PRODID:NingEventWidget-v1
VERSION:2.0
METHOD:PUBLISH
BEGIN:VTIMEZONE
TZID:America/Los_Angeles
X-LIC-LOCATION:America/Los_Angeles
BEGIN:DAYLIGHT
TZOFFSETFROM:-0800
TZOFFSETTO:-0700
TZNAME:PDT
DTSTART:19700308T020000
RRULE:FREQ=YEARLY;BYMONTH=3;BYDAY=2SU
END:DAYLIGHT
BEGIN:STANDARD
TZOFFSETFROM:-0700
TZOFFSETTO:-0800
TZNAME:PST
DTSTART:19701101T020000
RRULE:FREQ=YEARLY;BYMONTH=11;BYDAY=1SU
END:STANDARD
END:VTIMEZONE
BEGIN:VEVENT
UID:1464587:Event:377042
DTSTAMP:20260421T150643Z
SUMMARY:Switch Tuesdays Pride Edition
DESCRIPTION:Hold up wait a minute.   YOU GET TO PARTY WITH US TWICE I
 N ONE WEEK!  Yup thats right.  Tuesday June 24th Lez kick off pride wi
 th   Guest dj LISA DELUX from Vancouver BC   DJS Jenna Riot and 
 DeeJay Andre  GoGo Babes All Night! Bring Yo Dollar$   Photo booth by
  Noelle Skool with photos by Meg Allen Studio  BARTENDERS Iris Lena T
 riska, Boo-boo Jen + Amberlee Rosolowich SWERVIN YOU $3 JAMISON SHOTS 
 ALL NIGHT LONG ♥  Then catch us at Slate Bar in the mission for a sp
 ecial pride collaboration with our friends Darling Nikki and RSVP here
 : https://www.facebook.com/events/797347843617022/  HAPPY PRIDE SWITCH
 ES!!!!!    xo\n\nFor more information visit https://trueskool.com/eve
 nts/switch-tuesdays-pride-edition
DTSTART;TZID=America/Los_Angeles:20140624T210000
DTEND;TZID=America/Los_Angeles:20140629T020000
CATEGORIES:san, francisco, bay, area
LOCATION:QBar SF
WEBSITE:https://www.facebook.com/events/1425837571015186/
URL:https://www.facebook.com/events/1425837571015186/
CONTACT:
ORGANIZER;CN="DeeJay Andre":https://trueskool.com/profile/DeeJayAndre
ATTACH;FMTTYPE="image/jpeg":http://storage.ning.com/topology/rest/1.0/
 file/get/2247963213?profile=original
ATTENDEE;ROLE=REQ-PARTICIPANT;PARTSTAT=ACCEPTED;RSVP=TRUE;CN="DeeJay A
 ndre":https://trueskool.com/profile/DeeJayAndre
END:VEVENT
END:VCALENDAR
