BEGIN:VCALENDAR
PRODID:NingEventWidget-v1
VERSION:2.0
METHOD:PUBLISH
BEGIN:VTIMEZONE
TZID:America/Los_Angeles
X-LIC-LOCATION:America/Los_Angeles
BEGIN:DAYLIGHT
TZOFFSETFROM:-0800
TZOFFSETTO:-0700
TZNAME:PDT
DTSTART:19700308T020000
RRULE:FREQ=YEARLY;BYMONTH=3;BYDAY=2SU
END:DAYLIGHT
BEGIN:STANDARD
TZOFFSETFROM:-0700
TZOFFSETTO:-0800
TZNAME:PST
DTSTART:19701101T020000
RRULE:FREQ=YEARLY;BYMONTH=11;BYDAY=1SU
END:STANDARD
END:VTIMEZONE
BEGIN:VEVENT
UID:1464587:Event:630975
DTSTAMP:20260422T014938Z
SUMMARY:Switch Tuesday Pride Edition!
DESCRIPTION:SWITCH SF---->Your weekly lezzie-queer dance destination f
 or all the trap, hip hop, twerk, house + indie jamz♥ ♥ HAPPY PRIDE
 ♥♥FREE before 10pm!1/2 off wells between 9-10pm $3 Jameson shots a
 ll night! \nQBar 456 Castro st, SF,CA\n\nDJs Jenna Riot, Andre and Wo
 rkalook!!\n\nFor more information visit https://trueskool.com/events/s
 witch-tuesday-pride-edition
DTSTART;TZID=America/Los_Angeles:20150623T210000
DTEND;TZID=America/Los_Angeles:20150624T020000
CATEGORIES:san, francisco, ca
LOCATION:Q Bar San Francisco, CA
WEBSITE:
URL:
CONTACT:
ORGANIZER;CN="DeeJay Andre":https://trueskool.com/profile/DeeJayAndre
ATTACH;FMTTYPE="image/jpeg":http://storage.ning.com/topology/rest/1.0/
 file/get/2247976805?profile=original
ATTENDEE;ROLE=REQ-PARTICIPANT;PARTSTAT=ACCEPTED;RSVP=TRUE;CN="DeeJay A
 ndre":https://trueskool.com/profile/DeeJayAndre
END:VEVENT
END:VCALENDAR
