BEGIN:VCALENDAR
PRODID:NingEventWidget-v1
VERSION:2.0
METHOD:PUBLISH
BEGIN:VTIMEZONE
TZID:America/Los_Angeles
X-LIC-LOCATION:America/Los_Angeles
BEGIN:DAYLIGHT
TZOFFSETFROM:-0800
TZOFFSETTO:-0700
TZNAME:PDT
DTSTART:19700308T020000
RRULE:FREQ=YEARLY;BYMONTH=3;BYDAY=2SU
END:DAYLIGHT
BEGIN:STANDARD
TZOFFSETFROM:-0700
TZOFFSETTO:-0800
TZNAME:PST
DTSTART:19701101T020000
RRULE:FREQ=YEARLY;BYMONTH=11;BYDAY=1SU
END:STANDARD
END:VTIMEZONE
BEGIN:VEVENT
UID:1464587:Event:672724
DTSTAMP:20260421T072400Z
SUMMARY:Sweeney Todd
DESCRIPTION:\nFebruary 7 - March 18, 2018\nTony® Award Winner for Bes
 t MusicalDrama Desk Winner for Outstanding MusicalSWEENEY TODD: THE DE
 MON BARBER OF FLEET STREETBook by Hugh WheelerMusic & Lyrics by Stephe
 n SondheimBased on an adaptation by Christopher Bond Directed by Kenne
 th Kelleher\nTickets: https://www.thestage.org/tickets?eid=21867\nRSVP
  on Facebook: https://www.facebook.com/events/180598869364043/\n\"Comp
 elling ... Chilling ... Evocative \"\n-Variety\n\"Sondheim's most ravi
 shing score ... Ferociously inventive ... Perversely satisfying\"\n-Th
 e New York Times\n STARRING: Allison F. Rich* as Mrs. LovettNoel Antho
 ny* as Sweeney ToddMonique Hafen* as JohannaSam Faustine as Anthony Ho
 pe\nA BLOODY TALE OF LOVE AND RETRIBUTION\nAt Valentine’s Day, The S
 tage puts its unique style on a musical masterpiece with a re-envision
 ing of the revered Sondheim classic Sweeney Todd. \nA contemporary env
 isioning of the classic & infamous tale of Sweeney Todd, an unjustly e
 xiled barber returns to London seeking vengeance against the lecherous
  judge who framed him and ravaged his young wife. The road to revenge 
 leads Todd to Mrs. Lovett, a resourceful proprietress of a failing pie
  shop, above which, he opens a new barber practice. Mrs. Lovett's luck
  sharply shifts when Todd's thirst for blood inspires the addition of 
 a unique ingredient into her meat pies that has the people of London l
 ining up... and the carnage has only just begun!  Sondheim’s score 
 masterfully guides us along the border of love and vengeance. \nFEATU
 RING: Reg Huston, Ric Iverson*, Jill Miller, Keith Pinto*, Branden Noe
 l Thomas, Christopher Vettel*\n\n* Actors appear courtesy of Actors’
  Equity Association. \nTickets may be purchased online at https://www.
 thestage.org/tickets?eid=21867 or by calling (408) 283-7142. \nSan Jos
 e Stage Company 490 South 1st StreetSan Jose, CA, 95113\n\n\nFor more 
 information visit https://trueskool.com/events/sweeney-todd
DTSTART;TZID=America/Los_Angeles:20180207T193000
DTEND;TZID=America/Los_Angeles:20180318T140000
CATEGORIES:san, jose, bay, area, silicon, valley
LOCATION:San Jose Stage Company
WEBSITE:https://www.thestage.org/tickets?eid=21867
URL:https://www.thestage.org/tickets?eid=21867
CONTACT:(408) 283-7142
ORGANIZER;CN="San Jose Stage Company":https://trueskool.com/profile/Sa
 nJoseStageCompany
ATTACH;FMTTYPE="image/jpeg":
ATTENDEE;ROLE=REQ-PARTICIPANT;PARTSTAT=ACCEPTED;RSVP=TRUE;CN="San Jose
  Stage Company":https://trueskool.com/profile/SanJoseStageCompany
END:VEVENT
END:VCALENDAR
