BEGIN:VCALENDAR
PRODID:NingEventWidget-v1
VERSION:2.0
METHOD:PUBLISH
BEGIN:VTIMEZONE
TZID:America/Los_Angeles
X-LIC-LOCATION:America/Los_Angeles
BEGIN:DAYLIGHT
TZOFFSETFROM:-0800
TZOFFSETTO:-0700
TZNAME:PDT
DTSTART:19700308T020000
RRULE:FREQ=YEARLY;BYMONTH=3;BYDAY=2SU
END:DAYLIGHT
BEGIN:STANDARD
TZOFFSETFROM:-0700
TZOFFSETTO:-0800
TZNAME:PST
DTSTART:19701101T020000
RRULE:FREQ=YEARLY;BYMONTH=11;BYDAY=1SU
END:STANDARD
END:VTIMEZONE
BEGIN:VEVENT
UID:1464587:Event:324729
DTSTAMP:20260421T040543Z
SUMMARY:Sweatshop w/ Ren the Vinyl Archaeologist & DJ Kimani
DESCRIPTION:\nFRIDAY, MAR 14 Sweatshop\n\nwith your St. Patrick's Week
 end DJs\nRen the Vinyl Archaeologist (True Skool / Elevation) DJ Kiman
 i (Thump)\n\n@ Somar Bar, 1727 Telegraph Ave,Â Oakland 10pm-2am | 21+Â
  \n\n\nFor more information visit https://trueskool.com/events/sweatsh
 op-w-ren-the-vinyl-archaeologist-dj-kimani
DTSTART;TZID=America/Los_Angeles:20140314T220000
DTEND;TZID=America/Los_Angeles:20140315T020000
CATEGORIES:"bay area", oakland
LOCATION:Somar Bar, Oakland
WEBSITE:http://somarbar.wordpress.com/
URL:http://somarbar.wordpress.com/
CONTACT:
ORGANIZER:Somar
ATTACH;FMTTYPE="image/jpeg":http://storage.ning.com/topology/rest/1.0/
 file/get/2247958329?profile=original
ATTENDEE;ROLE=REQ-PARTICIPANT;PARTSTAT=ACCEPTED;RSVP=TRUE;CN="Staff Pi
 ck":https://trueskool.com/profile/Ren
END:VEVENT
END:VCALENDAR
