BEGIN:VCALENDAR
PRODID:NingEventWidget-v1
VERSION:2.0
METHOD:PUBLISH
BEGIN:VTIMEZONE
TZID:America/Los_Angeles
X-LIC-LOCATION:America/Los_Angeles
BEGIN:DAYLIGHT
TZOFFSETFROM:-0800
TZOFFSETTO:-0700
TZNAME:PDT
DTSTART:19700308T020000
RRULE:FREQ=YEARLY;BYMONTH=3;BYDAY=2SU
END:DAYLIGHT
BEGIN:STANDARD
TZOFFSETFROM:-0700
TZOFFSETTO:-0800
TZNAME:PST
DTSTART:19701101T020000
RRULE:FREQ=YEARLY;BYMONTH=11;BYDAY=1SU
END:STANDARD
END:VTIMEZONE
BEGIN:VEVENT
UID:1464587:Event:32049
DTSTAMP:20260421T050657Z
SUMMARY:Surya Dub
DESCRIPTION:Saturday 05/30\n\n\n\n\n\nManeesh the Twister Presents:\nS
 urya Dub\nAmbassadors of Dread Bass\nfeat. MALA of Digital Mystikz, Ep
 rom, and SD Crew\n\n\nSuper Limited PreSale and RSVP now at www.going.
 com/SuryaDubMay30\n\nMALA (Digital Mystikz, Deep Medi – London, UK)\
 nMala – one half of the highly acclaimed Digital Mystikz has become 
 a positive figurehead for the dubstep scene as one it’s finest purve
 yors of bass weight. He is a renowned producer, dj, label owner and co
 founder of the international bass conference known aka club night DMZ.
  Mala brings a love of jungle, dub, roots reggae, garage & deep house 
 to his productions and has had a series of releases on his own flagshi
 p label Deep Medi Musik, Soul Jazz, Fabric, Tempa, Planet Mu, and Aphe
 x Twin’s Rephlex label. He has appeared on the airwaves numerous tim
 es on London’s Kiss 100, BBC Radio One and Mary Anne Hobbs’ semina
 l Dubstep Warz show. He has played with a who’s who of producers, dj
 s and bands all over the globe and recently headlined Barcelona’s So
 nar Festival on Radio One’s stage. Come meditate on his bass weight 
 as Mala blesses the Surya stage!\n\nEPROM (Surefire, Black Acre)\nEPRO
 M is known for his diverse, funky and energetic sets, which cross the 
 lines between live remixing and manipulation of hiphop and breaks with
  his own obscenely bass-heavy neurocrunk transmissions. EPROM has play
 ed alongside artists like Modeselektor, Vibesquad, Ooah, Boreta, Bassn
 ectar, Kraddy, edIT, and many others. EPROM is fusing his own brand of
  telekinetic crunksauce in the form of the new hybrid genre, Psyphy. H
 is latest release is on Addictech Recordings, with more releases comin
 g soon on a variety of labels. We are excited to have him get the part
 y started as he debuts SD.\n\n\nSub Hz Den\nDubstep, Dread Bass Breaks
  & D'n'B, Ragga\nResidents:\nManeesh the Twister (Surya Dub, Dhamaal, 
 Dub Mission - Best Club DJ SF Guardian) & Ripley (Favorite Club DJ SFB
 G, havoc sound, Surya Dub), Kush Arora (live Dubwize set - KAP, Surya 
 Dub), J.Rogers (Blipswitch, Surya Dub), Visuals by CONTACT (Surya Dub)
 \n\nInna Yard\nReggae, Dancehall, Bhangra, Global Beats\nResidents\nJi
 mmy Love (Non Stop Bhangra, Surya Dub), Kid Kameleon (xlr8r, Surya Dub
 ),DJ Amar Electric vardo, Surya Dub)\n\nSuper Limited PreSale for $10 
 or $15 b4 11p w/ RSVP at: www.going.com/suryadubmay30\n$18 door\n\nwww
 .myspace.com/suryadub - FRIEND US!\nBecome part of the SD community on
  Facebook\nhttp://tribes.tribe.net/suryadub\n\n\nPrice Super Limited P
 re-Sale $10/$15 before 11pm with RSVP\n$18 door\nTime 9pm-2am\nMusic D
 ubstep, Dread Bass Breaks & D'n'B, Ragga, Reggae, Dancehall, Bhangra, 
 Global Beats\n\nFor more information visit https://trueskool.com/event
 s/surya-dub-1
DTSTART;TZID=America/Los_Angeles:20090530T210000
DTEND;TZID=America/Los_Angeles:20090531T150000
CATEGORIES:dancehall, reggae
LOCATION:Club Six, San Francisco, CA
WEBSITE:http://www.clubsix1.com
URL:http://www.clubsix1.com
CONTACT:415-531-6593
ORGANIZER:Angel
ATTACH;FMTTYPE="image/jpeg":http://storage.ning.com/topology/rest/1.0/
 file/get/2247856965?profile=original
ATTENDEE;ROLE=REQ-PARTICIPANT;PARTSTAT=ACCEPTED;RSVP=TRUE;CN=Cecily:ht
 tps://trueskool.com/profile/Cecily
END:VEVENT
END:VCALENDAR
