BEGIN:VCALENDAR
PRODID:NingEventWidget-v1
VERSION:2.0
METHOD:PUBLISH
BEGIN:VTIMEZONE
TZID:America/Los_Angeles
X-LIC-LOCATION:America/Los_Angeles
BEGIN:DAYLIGHT
TZOFFSETFROM:-0800
TZOFFSETTO:-0700
TZNAME:PDT
DTSTART:19700308T020000
RRULE:FREQ=YEARLY;BYMONTH=3;BYDAY=2SU
END:DAYLIGHT
BEGIN:STANDARD
TZOFFSETFROM:-0700
TZOFFSETTO:-0800
TZNAME:PST
DTSTART:19701101T020000
RRULE:FREQ=YEARLY;BYMONTH=11;BYDAY=1SU
END:STANDARD
END:VTIMEZONE
BEGIN:VEVENT
UID:1464587:Event:660704
DTSTAMP:20260423T133104Z
SUMMARY:Superb
DESCRIPTION:Saturday April 8th, 2017Marketing Kings and Francisco St. 
 Productions Presents:SuperbAn Intimate Night Of Live MusicThe Bay Area
 's own Martin Luther comes to Oakland on Saturday April 8th, 2017 to p
 erform a special performance inside Jack London Square's intimate Hot 
 Spot, The Night Light.https://www.youtube.com/watch?v=yxHO5J0dcDUSpeci
 al Guests include Oakland's own Avant Garde Band of Composers, Dawnari
 , who according to lead singer, their goal is to touch you, free you a
 nd leave you elevated. Music connects, heals and transcends all and th
 ats what we strive to do!\"https://www.youtube.com/watch?v=cdvc-EWW9S4
 Sounds provided by Bay Area Veteran Party Rocker:DJ True Justicehttps:
 //www.youtube.com/watch?v=IWAwoNj9sB0$10 Pre Sale Tickets Available:ht
 tp://martinlutherlive.brownpapertickets.com/\n\nFor more information v
 isit https://trueskool.com/events/superb
DTSTART;TZID=America/Los_Angeles:20170408T210000
DTEND;TZID=America/Los_Angeles:20170409T020000
CATEGORIES:oakland, jack, london, square, the, night, light, bay, area
LOCATION:The Night Light
WEBSITE:http://www.martinlutherlive.brownpapertickets.com
URL:http://www.martinlutherlive.brownpapertickets.com
CONTACT:(510) 433-0340
ORGANIZER;CN="True Justice":https://trueskool.com/profile/TrueJustice
ATTACH;FMTTYPE="image/jpeg":http://storage.ning.com/topology/rest/1.0/
 file/get/2247995000?profile=original
ATTENDEE;ROLE=REQ-PARTICIPANT;PARTSTAT=ACCEPTED;RSVP=TRUE;CN="True Jus
 tice":https://trueskool.com/profile/TrueJustice
ATTENDEE;ROLE=REQ-PARTICIPANT;PARTSTAT=TENTATIVE;RSVP=TRUE;CN="Editor'
 s Pick":https://trueskool.com/profile/RentheVinylArchaeologist
END:VEVENT
END:VCALENDAR
