BEGIN:VCALENDAR
PRODID:NingEventWidget-v1
VERSION:2.0
METHOD:PUBLISH
BEGIN:VTIMEZONE
TZID:America/Los_Angeles
X-LIC-LOCATION:America/Los_Angeles
BEGIN:DAYLIGHT
TZOFFSETFROM:-0800
TZOFFSETTO:-0700
TZNAME:PDT
DTSTART:19700308T020000
RRULE:FREQ=YEARLY;BYMONTH=3;BYDAY=2SU
END:DAYLIGHT
BEGIN:STANDARD
TZOFFSETFROM:-0700
TZOFFSETTO:-0800
TZNAME:PST
DTSTART:19701101T020000
RRULE:FREQ=YEARLY;BYMONTH=11;BYDAY=1SU
END:STANDARD
END:VTIMEZONE
BEGIN:VEVENT
UID:1464587:Event:32802
DTSTAMP:20260420T180745Z
SUMMARY:SUNDAZE
DESCRIPTION:THIS IS A DAY EVENT\nWHAT YOU HAVE ALL BE WAITING FOR,,,,\
 n\nENOUGH FOOD......\n\nSUMMER COMES ONCE A YEAR!!!\nSALSA,NAIJAMUSIC,
 REGGAE,MERENGUE,SOCA,SOUL,DANCEHALL & MORE WORLD MUSIC\n\nITS GONNA BE
  BLAZING HOT THIS SUMMER .\n\nSTARTING ON THE 24TH OF MAY BUT GOES ON 
 EVERY HOT SUNDAY\n\nIN THE LOWER PATIO OF AIR\n\nDAY EVENT FROM 3-9PM\
 n\nGREAT MUSIC FROM ALL OVER,GREAT FOOD!\nNEVER MISS A GREAT EVENT.\n\
 nhttp://www.facebook.com/group.php?gid=72460378531&ref=mf#/event.php?e
 id=83585197078&ref=mf\n\nFor more information visit https://trueskool.
 com/events/sundaze-2
DTSTART;TZID=America/Los_Angeles:20090524T150000
DTEND;TZID=America/Los_Angeles:20090524T210000
CATEGORIES:day, time, event
LOCATION:AIR LOUNGE
WEBSITE:http://www.airoakland.com
URL:http://www.airoakland.com
CONTACT:5104442377
ORGANIZER;CN=Spor:https://trueskool.com/profile/KemiSpor
ATTACH;FMTTYPE="image/jpeg":http://storage.ning.com/topology/rest/1.0/
 file/get/2247857862?profile=original
ATTENDEE;ROLE=REQ-PARTICIPANT;PARTSTAT=ACCEPTED;RSVP=TRUE;CN=Spor:http
 s://trueskool.com/profile/KemiSpor
END:VEVENT
END:VCALENDAR
