BEGIN:VCALENDAR
PRODID:NingEventWidget-v1
VERSION:2.0
METHOD:PUBLISH
BEGIN:VTIMEZONE
TZID:America/Los_Angeles
X-LIC-LOCATION:America/Los_Angeles
BEGIN:DAYLIGHT
TZOFFSETFROM:-0800
TZOFFSETTO:-0700
TZNAME:PDT
DTSTART:19700308T020000
RRULE:FREQ=YEARLY;BYMONTH=3;BYDAY=2SU
END:DAYLIGHT
BEGIN:STANDARD
TZOFFSETFROM:-0700
TZOFFSETTO:-0800
TZNAME:PST
DTSTART:19701101T020000
RRULE:FREQ=YEARLY;BYMONTH=11;BYDAY=1SU
END:STANDARD
END:VTIMEZONE
BEGIN:VEVENT
UID:1464587:Event:367093
DTSTAMP:20260421T183013Z
SUMMARY:This Sunday: The Scientist with General Jah Mikey on the mic p
 lus Subatomic Sound System and DJ Sep (Dub Champions Festival) at Elbo
  Room - $14 Adv/$17 Door
DESCRIPTION:Dub Mission and Subatomic Sound System present\nthe First 
 Dub Champions Festival on the West Coast:  featuring Jamaica’s legen
 dary mixmaster\nThe Scientist\nwith General Jah Mikey on the mic plus 
 Subatomic Sound System  and DJ Sep\n9 pm m - $14 Advance/$17 Door Adv.
  tix; http://www.brownpapertickets.com/event/713054 More info: www.dub
 mission.com\nFB: https://www.facebook.com/events/1425340474400389/\n 
 \n\"My inspiration for creating Dub Champions Festival nearly four yea
 rs ago in New York City was primarily the result of my experience perf
 orming at Dub Mission and seeing the amazing response of the crowd wee
 k after week to these events that DJ Sep was organizing. I felt we nee
 ded something like that in New York for both artists and fans of the m
 usic. Once it started it just snowballed from there.\"\nEmch / Subatom
 ic Sound System\n\nAfter three years in the North East and two years i
 n Europe, Subatomic Sound in conjunction with Dub Mission (S.F.), Dub 
 Club (L.A.), and Dubspot presents the First Annual Dub Champions Festi
 val on the West Coast. An international musical phenomenon, dub is a 
 musical style characterized by heavy bass, drums, and copious use of e
 ffects, where the producer becomes the artist, with the mixing board a
 s his or her instrument. The festival features performances and educat
 ional workshops to exhibit how the music is created and how it has evo
 lved from its roots in ‘70s Jamaica to become a cornerstone of elect
 ronic bass music. Dub is a major inspiration to artists in many genres
  including rap, rock, punk and dance music. Dub Champions Festival was
  founded in New York City by Emch of Subatomic Sound System and is ded
 icated to featuring the world’s greatest dub pioneers from Jamaica a
 s well as current innovators on every Continent. The festival happens 
 in New York City, Washington DC, Philadelphia, Boston, Vienna, Amsterd
 am and now debuts in San Francisco and Los Angeles.  www.DubChampions.
 com  www.facebook.com/DubChampions @DubChampions  www.dubmission.com w
 ww.facebook.com/DubMissionSF www.youtube.com/dubmission www.soundcloud
 .com/dubmissionsf\nwww.instagram.com/dubmissionsf\nwww.google.com/+DJS
 EP @djsepdubmission Events info www.facebook.com/events/17423312275082
 1/?context=create Dub Mission music/video Player: http://fb.fanrx.com/
 158MQEm\n\nFor more information visit https://trueskool.com/events/sun
 day-june-22-the-scientist-with-general-jah-mikey-on-the-mic
DTSTART;TZID=America/Los_Angeles:20140622T210000
DTEND;TZID=America/Los_Angeles:20140623T020000
CATEGORIES:subatomic, sound, system, scientist, dub, chamions, festiva
 l, club, party, reggae, dance, dancehall, san, francisco, nightlife, s
 ep, vinnie, esparza, j, boogie
LOCATION:Elbo Room
WEBSITE:http://www.elbo.com
URL:http://www.elbo.com
CONTACT:415 552 7788
ORGANIZER;CN="DJ SEP":https://trueskool.com/profile/DJSEP
ATTACH;FMTTYPE="image/jpeg":http://storage.ning.com/topology/rest/1.0/
 file/get/2247962176?profile=original
ATTENDEE;ROLE=REQ-PARTICIPANT;PARTSTAT=ACCEPTED;RSVP=TRUE;CN="DJ SEP":
 https://trueskool.com/profile/DJSEP
END:VEVENT
END:VCALENDAR
