BEGIN:VCALENDAR
PRODID:NingEventWidget-v1
VERSION:2.0
METHOD:PUBLISH
BEGIN:VTIMEZONE
TZID:America/Los_Angeles
X-LIC-LOCATION:America/Los_Angeles
BEGIN:DAYLIGHT
TZOFFSETFROM:-0800
TZOFFSETTO:-0700
TZNAME:PDT
DTSTART:19700308T020000
RRULE:FREQ=YEARLY;BYMONTH=3;BYDAY=2SU
END:DAYLIGHT
BEGIN:STANDARD
TZOFFSETFROM:-0700
TZOFFSETTO:-0800
TZNAME:PST
DTSTART:19701101T020000
RRULE:FREQ=YEARLY;BYMONTH=11;BYDAY=1SU
END:STANDARD
END:VTIMEZONE
BEGIN:VEVENT
UID:1464587:Event:33432
DTSTAMP:20260421T142755Z
SUMMARY:Summer Soul: Erykah Badu Concert After Party
DESCRIPTION:\nSummer Soul\nErykah Badu Concert After Party\n\nMusic By
  DJ Hector\nSpinning the hottest R&B. Soul. Hip Hop. Reggae.\n\nWith Y
 our Host\nSana G\n\nCo-Hosted By\nJohn Quinn. Christina. Location415\n
 \nButterfly Ultra Lounge Pier 33 Embarcadero San Francsico\nFor Bottle
  Service Email\nbottleservice@location415.com\nDRESS CODE-\nNo Sports 
 Wear. Tennis Shoes. T-Shirts. Hats\n\n$10 Before 11pm with this email 
 print out or on our guest list\nClick here for more info\n\nFor more i
 nformation visit https://trueskool.com/events/summer-soul-erykah-badu
DTSTART;TZID=America/Los_Angeles:20090606T220000
DTEND;TZID=America/Los_Angeles:20090607T020000
CATEGORIES:"r&b.", "soul.", hip, "hop.", "reggae."
LOCATION:Butterfly Ultra Lounge, San Francisco
WEBSITE:http://location415.com/page3.html
URL:http://location415.com/page3.html
CONTACT:
ORGANIZER:Location415
ATTACH;FMTTYPE="image/jpeg":http://storage.ning.com/topology/rest/1.0/
 file/get/2247857581?profile=original
ATTENDEE;ROLE=REQ-PARTICIPANT;PARTSTAT=ACCEPTED;RSVP=TRUE;CN="Editor's
  Pick":https://trueskool.com/profile/RentheVinylArchaeologist
END:VEVENT
END:VCALENDAR
