BEGIN:VCALENDAR
PRODID:NingEventWidget-v1
VERSION:2.0
METHOD:PUBLISH
BEGIN:VTIMEZONE
TZID:America/Los_Angeles
X-LIC-LOCATION:America/Los_Angeles
BEGIN:DAYLIGHT
TZOFFSETFROM:-0800
TZOFFSETTO:-0700
TZNAME:PDT
DTSTART:19700308T020000
RRULE:FREQ=YEARLY;BYMONTH=3;BYDAY=2SU
END:DAYLIGHT
BEGIN:STANDARD
TZOFFSETFROM:-0700
TZOFFSETTO:-0800
TZNAME:PST
DTSTART:19701101T020000
RRULE:FREQ=YEARLY;BYMONTH=11;BYDAY=1SU
END:STANDARD
END:VTIMEZONE
BEGIN:VEVENT
UID:1464587:Event:219777
DTSTAMP:20260421T094548Z
SUMMARY:SUMMER SLAP FEST
DESCRIPTION:\n12 Hours Of Non - Stop Music. Live Performances by Keak 
 Da Sneak, Clyde Carson and the Team, Mistah Fab, Philthy Rich, Cousin 
 Fik, Big OSO Loc, Young Dru, Killa Klump, Big Rich, Mr. Kee, And Many 
 More. \nDj Area- 12 Dj's in Rotation and live band\nBar 21+ - House M
 usic Room\nBeer Gargen/ Food and Vendor Booths\n2pm to 2am - Headline 
 Show starts at 7pm ( Main Stage )\nPresale Tickets at http://www.flav
 orus.com/event/Summer-Slap-Fest/179201\n\nFor more information visit h
 ttps://trueskool.com/events/summer-slap-fest
DTSTART;TZID=America/Los_Angeles:20130810T140000
DTEND;TZID=America/Los_Angeles:20130811T020000
CATEGORIES:"bay area"
LOCATION:Mountain House Bar, Tracy
WEBSITE:http://www.flavorus.com/event/Summer-Slap-Fest/179201
URL:http://www.flavorus.com/event/Summer-Slap-Fest/179201
CONTACT:510-418-2434
ORGANIZER:Bluntworld & Most Hated MC
ATTACH;FMTTYPE="image/jpeg":http://storage.ning.com/topology/rest/1.0/
 file/get/2247943885?profile=original
ATTENDEE;ROLE=REQ-PARTICIPANT;PARTSTAT=ACCEPTED;RSVP=TRUE;CN="Jose Bri
 ssolese":https://trueskool.com/profile/JoseBrissolese
END:VEVENT
END:VCALENDAR
