BEGIN:VCALENDAR
PRODID:NingEventWidget-v1
VERSION:2.0
METHOD:PUBLISH
BEGIN:VTIMEZONE
TZID:America/Los_Angeles
X-LIC-LOCATION:America/Los_Angeles
BEGIN:DAYLIGHT
TZOFFSETFROM:-0800
TZOFFSETTO:-0700
TZNAME:PDT
DTSTART:19700308T020000
RRULE:FREQ=YEARLY;BYMONTH=3;BYDAY=2SU
END:DAYLIGHT
BEGIN:STANDARD
TZOFFSETFROM:-0700
TZOFFSETTO:-0800
TZNAME:PST
DTSTART:19701101T020000
RRULE:FREQ=YEARLY;BYMONTH=11;BYDAY=1SU
END:STANDARD
END:VTIMEZONE
BEGIN:VEVENT
UID:1464587:Event:31355
DTSTAMP:20260420T193550Z
SUMMARY:SUITE JESUS @ 111 Minna w/ Klever Craze Chezidek Winstrong & M
 ore
DESCRIPTION:ArtNowSF presents\n\n\n\nSUITE JESUS\n\n\n\nFriday, April 
 24th\n\n\n\n111 Minna Gallery\n\n\n\n+++++++++++++++++++++++++++++++++
 +++\n\nFor more information visit https://trueskool.com/events/suite-j
 esus-111-minna-w
DTSTART;TZID=America/Los_Angeles:20090424T210000
DTEND;TZID=America/Los_Angeles:20090425T020000
CATEGORIES:hip, hop, dancehall, reggae, trip, downtempo, old, school, 
 funk
LOCATION:111 minna gallery san francisco ca
WEBSITE:http://going.com/aprsj
URL:http://going.com/aprsj
CONTACT:
ORGANIZER;CN=ARTNOW:https://trueskool.com/profile/ARTNOW
ATTACH;FMTTYPE="image/jpeg":http://storage.ning.com/topology/rest/1.0/
 file/get/2247857277?profile=original
ATTENDEE;ROLE=REQ-PARTICIPANT;PARTSTAT=ACCEPTED;RSVP=TRUE;CN=ARTNOW:ht
 tps://trueskool.com/profile/ARTNOW
END:VEVENT
END:VCALENDAR
