BEGIN:VCALENDAR
PRODID:NingEventWidget-v1
VERSION:2.0
METHOD:PUBLISH
BEGIN:VTIMEZONE
TZID:America/Los_Angeles
X-LIC-LOCATION:America/Los_Angeles
BEGIN:DAYLIGHT
TZOFFSETFROM:-0800
TZOFFSETTO:-0700
TZNAME:PDT
DTSTART:19700308T020000
RRULE:FREQ=YEARLY;BYMONTH=3;BYDAY=2SU
END:DAYLIGHT
BEGIN:STANDARD
TZOFFSETFROM:-0700
TZOFFSETTO:-0800
TZNAME:PST
DTSTART:19701101T020000
RRULE:FREQ=YEARLY;BYMONTH=11;BYDAY=1SU
END:STANDARD
END:VTIMEZONE
BEGIN:VEVENT
UID:1464587:Event:53188
DTSTAMP:20260420T230541Z
SUMMARY:Suite 420 Tour ft. Devin the Dude/The Coughee Brothaz
DESCRIPTION:Monday May 3rd\nSuite 420 Tour featuring:\nDevin the Dude\
 nCoughee Brothaz\n\nShattuck Downlow, 2484 Shattuck Ave., Berkeley\ndo
 ors at 9pm\ntickets $15\nBuy Tickets:\nhttp://www.ticketweb.com/t3/sal
 e/SaleEventDetail?dispatch=loadSelectionData&eventId=1535685\n\n\n\nFo
 r more information visit https://trueskool.com/events/suite-420-tour-f
 t-devin-the
DTSTART;TZID=America/Los_Angeles:20100503T210000
DTEND;TZID=America/Los_Angeles:20100504T020000
CATEGORIES:hip, hop
LOCATION:Shattuck Down Low, Berkeley, CA
WEBSITE:http://www.ticketweb.com/t3/sale/SaleEventDetail?dispatch=load
 SelectionData&eventId=1535685
URL:http://www.ticketweb.com/t3/sale/SaleEventDetail?dispatch=loadSele
 ctionData&eventId=1535685
CONTACT:
ORGANIZER;CN="Editor's Pick":https://trueskool.com/profile/RentheVinyl
 Archaeologist
ATTACH;FMTTYPE="image/jpeg":http://storage.ning.com/topology/rest/1.0/
 file/get/2247876209?profile=original
ATTENDEE;ROLE=REQ-PARTICIPANT;PARTSTAT=ACCEPTED;RSVP=TRUE;CN="caramel 
 queen":https://trueskool.com/profile/caramelqueen
ATTENDEE;ROLE=REQ-PARTICIPANT;PARTSTAT=ACCEPTED;RSVP=TRUE;CN="Editor's
  Pick":https://trueskool.com/profile/RentheVinylArchaeologist
END:VEVENT
END:VCALENDAR
