BEGIN:VCALENDAR
PRODID:NingEventWidget-v1
VERSION:2.0
METHOD:PUBLISH
BEGIN:VTIMEZONE
TZID:America/Los_Angeles
X-LIC-LOCATION:America/Los_Angeles
BEGIN:DAYLIGHT
TZOFFSETFROM:-0800
TZOFFSETTO:-0700
TZNAME:PDT
DTSTART:19700308T020000
RRULE:FREQ=YEARLY;BYMONTH=3;BYDAY=2SU
END:DAYLIGHT
BEGIN:STANDARD
TZOFFSETFROM:-0700
TZOFFSETTO:-0800
TZNAME:PST
DTSTART:19701101T020000
RRULE:FREQ=YEARLY;BYMONTH=11;BYDAY=1SU
END:STANDARD
END:VTIMEZONE
BEGIN:VEVENT
UID:1464587:Event:51598
DTSTAMP:20260421T172239Z
SUMMARY:Styles Upon Styles
DESCRIPTION:ONECYPHER.COM & CRAZY LEGS PRESENTS:\n\n\nSTYLES UPON STYL
 ES\n\nAN EVENT INFUSING FASHION, MUSIC & DANCE\n\n\nSaturday, March 27
 , 2010\n\n\nFeaturing Never Been Seen Documentary “Bouncing Cats”\
 n\n\nFollowed by a Q & A with Crazy Legs\n\n\nBouncing Cats is the ins
 piring story of one man’s attempt to create a better life for the ch
 ildren of war torn Uganda using the unlikely tool of hip-hop, specific
 ally b-boy culture and breakdancing. Featuring Crazy Legs of the legen
 dary Rock Steady Crew, the documentary film includes narration by Comm
 on and interviews with Mos Def, and K’Naan.\n\n\nHosted by Crazy Leg
 s of the World Famous Rock Steady Crew\n\n\nOfficial Relaunch Party fo
 r Onecypher.com & After Party for ROCK THE SCHOOL BELLS 3\n\n\nSpecial
  Guest Dj Sets by: Crazy Legs & One Cypher’s Very Own, Dennis Infant
 e\n\n\nPerformances By: Philtered Soul & The Syrenz\n\n\nSpecial Soul 
 Train Line Tribute to Greg Campbellock Jr Pope R.I.P\n\n\nCalling all 
 Lockers to get down and funky!\n\n\nLive Performance Painting by JONAS
  LYNCH\n\n\nPrizes and Giveaways Provided by PUMA\n\n\nLOCATION:\n330 
 Ritch – Located at 360 Ritch, San Francisco, CA. 94107\n\n\nTIME:\n\
 n7:15 p.m. – Doors open\n7:30 – 8:30 Bouncing Cats Screening *Join
  us early for discounted Ciroc Cocktails\n8:30 – 9:30 Q & A with Cra
 zy Legs\n9:45 – Party Begins\n\nFor the 21+up\n\nNo Dresscode\n\n\n$
 10 Gen Admission\n$5 Guestlist\n$5 All night with Rock The School Bell
 s 3 ticket stub WITH RSVP!\n\n*Guestlist closes at 11pm. *Get there ea
 rly!\n\nRSVP full names to guestlist: Stylesuponstyles.sf@gmail.com\n\
 nFOR BOTTLE SERVICE OR BIRTHDAY PARTY RESERVATIONS PLEASE CONTACT: jul
 ie.chen@otopayneinc.com\n\nSponsors and Promotional Partners Include:\
 nBackSpin Productions, Onecypher.com, Rock Steady Crew, Sisterz of the
  Underground, City Dance Studios, Joysco, All the Way Live, Puma, Ciro
 c, Fusicology, Mindbodyflo.com, Hip-Hop.com, Soulciety.org, World of D
 ance, Funkanometry, CypherStyles.com, Adapt, Rock The School Bells, Jo
 nas Lynch, LovejunkeeDjs.com , JordanLouie, peejayee.com, www.crazyleg
 sworkshop.com\n\nSPECIAL THANKS TO RED BULL\n\nFor more information vi
 sit https://trueskool.com/events/styles-upon-styles
DTSTART;TZID=America/Los_Angeles:20100327T193000
DTEND;TZID=America/Los_Angeles:20100328T020000
CATEGORIES:hip, hop, old, skool, "r&b", funk, house, "...."
LOCATION:330 Ritch, San Francisco CA
WEBSITE:http://www.onecypher.com
URL:http://www.onecypher.com
CONTACT:
ORGANIZER;CN=onecypher:https://trueskool.com/profile/onecypher
ATTACH;FMTTYPE="image/jpeg":http://storage.ning.com/topology/rest/1.0/
 file/get/2247875894?profile=original
ATTENDEE;ROLE=REQ-PARTICIPANT;PARTSTAT=ACCEPTED;RSVP=TRUE;CN=onecypher
 :https://trueskool.com/profile/onecypher
END:VEVENT
END:VCALENDAR
