BEGIN:VCALENDAR
PRODID:NingEventWidget-v1
VERSION:2.0
METHOD:PUBLISH
BEGIN:VTIMEZONE
TZID:America/Los_Angeles
X-LIC-LOCATION:America/Los_Angeles
BEGIN:DAYLIGHT
TZOFFSETFROM:-0800
TZOFFSETTO:-0700
TZNAME:PDT
DTSTART:19700308T020000
RRULE:FREQ=YEARLY;BYMONTH=3;BYDAY=2SU
END:DAYLIGHT
BEGIN:STANDARD
TZOFFSETFROM:-0700
TZOFFSETTO:-0800
TZNAME:PST
DTSTART:19701101T020000
RRULE:FREQ=YEARLY;BYMONTH=11;BYDAY=1SU
END:STANDARD
END:VTIMEZONE
BEGIN:VEVENT
UID:1464587:Event:63583
DTSTAMP:20260420T193658Z
SUMMARY:Style Wars ft. I-Cue, DJ Epic, Sean G, DJ Empire
DESCRIPTION:\nFRIDAY, AUGUST 20\nDJ Empire Presents:\nSTYLE WARS\n4 DJ
 's, 4 Turntables, 1 Amazing Party!\nOne of A Kind Spectacular Event!\n
 Hip Hop, Top40, RnB, Hip Hop Classics, Reggae Dance Hall, Soca and Clu
 b Hits! Spinning On 4 Turntables All Night long!\n\nMusic By:\nDJ I-CU
 E\nDJ EPIC\nSEAN G\nDJ EMPIRE\n\n@ Element Lounge, 1028 Geary St. [Bet
 ween Van Ness & Polk], San Francisco\n10PM/2AM. 21& OLDER\n$10 All Nig
 ht! $5 Before 11pm w/ RSVP!\nSend Full Names to DJEmpiresf@gmail.com o
 r\nText: 510 725 7844\nDress Code: Stylish Attire Required. No Sports 
 Apparel. Keep it FRESH!!!\n\nFor more information visit https://truesk
 ool.com/events/style-wars-ft-icue-dj-epic
DTSTART;TZID=America/Los_Angeles:20100820T220000
DTEND;TZID=America/Los_Angeles:20100821T020000
CATEGORIES:bay, area, san, francisco
LOCATION:Element Lounge, San Francisco, CA
WEBSITE:http://www.elementlounge.com/guestlist.htm
URL:http://www.elementlounge.com/guestlist.htm
CONTACT:
ORGANIZER:DJ Empire
ATTACH;FMTTYPE="image/jpeg":http://storage.ning.com/topology/rest/1.0/
 file/get/2247883273?profile=original
ATTENDEE;ROLE=REQ-PARTICIPANT;PARTSTAT=ACCEPTED;RSVP=TRUE;CN="Ren the 
 Vinyl Archaeologist":https://trueskool.com/profile/xh51jvilojur
END:VEVENT
END:VCALENDAR
