BEGIN:VCALENDAR
PRODID:NingEventWidget-v1
VERSION:2.0
METHOD:PUBLISH
BEGIN:VTIMEZONE
TZID:America/Los_Angeles
X-LIC-LOCATION:America/Los_Angeles
BEGIN:DAYLIGHT
TZOFFSETFROM:-0800
TZOFFSETTO:-0700
TZNAME:PDT
DTSTART:19700308T020000
RRULE:FREQ=YEARLY;BYMONTH=3;BYDAY=2SU
END:DAYLIGHT
BEGIN:STANDARD
TZOFFSETFROM:-0700
TZOFFSETTO:-0800
TZNAME:PST
DTSTART:19701101T020000
RRULE:FREQ=YEARLY;BYMONTH=11;BYDAY=1SU
END:STANDARD
END:VTIMEZONE
BEGIN:VEVENT
UID:1464587:Event:158522
DTSTAMP:20260422T020633Z
SUMMARY:Stupid Phat
DESCRIPTION:SATURDAY PUBLIC WORKS\n$5\nALL NIGHT!!\n\nhttps://www.face
 book.com/events/314997451934886/\n\nFor more information visit https:/
 /trueskool.com/events/stupid-phat
DTSTART;TZID=America/Los_Angeles:20130119T220000
DTEND;TZID=America/Los_Angeles:20130120T020000
CATEGORIES:san, "francisco/california"
LOCATION:Public Works, San Francisco
WEBSITE:https://www.facebook.com/events/314997451934886/
URL:https://www.facebook.com/events/314997451934886/
CONTACT:
ORGANIZER:
ATTACH;FMTTYPE="image/jpeg":
ATTENDEE;ROLE=REQ-PARTICIPANT;PARTSTAT=ACCEPTED;RSVP=TRUE;CN=topnotch:
 https://trueskool.com/profile/topnotch
END:VEVENT
END:VCALENDAR
