BEGIN:VCALENDAR
PRODID:NingEventWidget-v1
VERSION:2.0
METHOD:PUBLISH
BEGIN:VTIMEZONE
TZID:America/Los_Angeles
X-LIC-LOCATION:America/Los_Angeles
BEGIN:DAYLIGHT
TZOFFSETFROM:-0800
TZOFFSETTO:-0700
TZNAME:PDT
DTSTART:19700308T020000
RRULE:FREQ=YEARLY;BYMONTH=3;BYDAY=2SU
END:DAYLIGHT
BEGIN:STANDARD
TZOFFSETFROM:-0700
TZOFFSETTO:-0800
TZNAME:PST
DTSTART:19701101T020000
RRULE:FREQ=YEARLY;BYMONTH=11;BYDAY=1SU
END:STANDARD
END:VTIMEZONE
BEGIN:VEVENT
UID:1464587:Event:40439
DTSTAMP:20260421T234057Z
SUMMARY:Stupid Fresh
DESCRIPTION:Modus Media & Soul.Scienz Present:\n\nSTUPID FRESH (FREE F
 RIDAY!)\nThe Summer Series of Free Fridays Continues\nThis Friday: Sep
 t. 11th\n\nFeaturing:\nDJ Delivery\nBling Crosby (Destro)\nFrank Foote
 r\nAwesome Lee Bad\n\n& More!\n\nNo Cover All Night Long\n2 for1 Drink
 s from 10-11\n\n9pm-2am // 21+\n\nHip Hop, Reggae, Club Classics, Brea
 ks, House And Beyond\nOfficial Site: http://CLUBSIX1.COM\n\nFor more i
 nformation visit https://trueskool.com/events/stupid-fresh
DTSTART;TZID=America/Los_Angeles:20090911T210000
DTEND;TZID=America/Los_Angeles:20090912T030000
CATEGORIES:hip, hop, reggae
LOCATION:Club Six, San Francisco, CA
WEBSITE:http://www.clubsix1.com
URL:http://www.clubsix1.com
CONTACT:415-531-6593
ORGANIZER:Angel
ATTACH;FMTTYPE="image/jpeg":http://storage.ning.com/topology/rest/1.0/
 file/get/2247853905?profile=original
ATTENDEE;ROLE=REQ-PARTICIPANT;PARTSTAT=ACCEPTED;RSVP=TRUE;CN=Cecily:ht
 tps://trueskool.com/profile/Cecily
END:VEVENT
END:VCALENDAR
