BEGIN:VCALENDAR
PRODID:NingEventWidget-v1
VERSION:2.0
METHOD:PUBLISH
BEGIN:VTIMEZONE
TZID:America/Los_Angeles
X-LIC-LOCATION:America/Los_Angeles
BEGIN:DAYLIGHT
TZOFFSETFROM:-0800
TZOFFSETTO:-0700
TZNAME:PDT
DTSTART:19700308T020000
RRULE:FREQ=YEARLY;BYMONTH=3;BYDAY=2SU
END:DAYLIGHT
BEGIN:STANDARD
TZOFFSETFROM:-0700
TZOFFSETTO:-0800
TZNAME:PST
DTSTART:19701101T020000
RRULE:FREQ=YEARLY;BYMONTH=11;BYDAY=1SU
END:STANDARD
END:VTIMEZONE
BEGIN:VEVENT
UID:1464587:Event:38897
DTSTAMP:20260420T230100Z
SUMMARY:Studio S.F.
DESCRIPTION:L.O.W. SF & Go BANG! present the next chapter San Francisc
 o's DISCO scene!\n\nBeginning Thursday September 3, 2009 & every FIRST
  Thursday at The Triple Crown:\nStudio S.F.\n!!!\n\n\n\nThis party bri
 ngs together DJs & Live Performances that bridge all eras & styles of 
 Disco. From authentic Underground 70's/80's Disco to current performer
 s keeping the Disco vibe alive & pushing it forward into the future!\n
 \nFor the PREMIERE party Thursday, September 3, we are starting off wi
 th the big guns! Performers include:\n\n- Ken Vulsion (HONEYSOUNDSYSTE
 M) DJ Set!\nAs a founding member of San Francisco's premiere Heavy Dis
 co Dance collective - HONEYSOUNDSYSTEM - Ken & the rest of the crew (J
 ason Kendig, Robot Hustle, Peeplay, Josh Cheon) have recently celebrat
 ed the 2nd Anniversary of their amazing, always-exciting FREE Sunday P
 aradise Loft Party. They are the \"sister\" party of London's Horsemea
 t Disco crew, Ken recently was asked to do a mix for Tim Sweeny's oh-s
 o-hot Beats In Space radio show (http://www.beatsinspace.net/playlists
 /470) and Ken has been pivotal in unearthing previously-unreleased Pat
 rick Cowley tapes - with the \"Catholic\" EP being the first in Stefan
  Goldmann and Finn Johannsen's Prototypes series on Macro Label. Ken a
 lways delivers heavy, bassy Disco beats, and he is NOT to be missed!\n
 \n- White Girl Lust (Solid Bump Records) DJ Set!\nThese cats - Clayton
  Meador & Eric Kozack - have been releasing psychedelic, filter-heavy 
 Disco singles for the past couple of years, which you have heard in ma
 ny a tastemaker DJ's set. Last month Solid Bump launched their attack 
 on Summer with a label showcase at Vessel’s Infatuation. Over 350 pe
 ople came out to celebrate the release of their new EP Back and Forth.
  This set the tone for a summer in which they plan to release 6 EPs. A
 s the party progresses we hope to get other Solid Bump artists into St
 udio SF, but don’t miss this chance to see these DJs. They are amazi
 ng DJs, and you will not be able to resist getting down & dirty!\n\n-S
 ergio (Go BANG!) DJ Set!\nHaving been a Bay Area staple, DJing on KALX
  90.7 FM in Berkeley since 1997, Sergio presents the spectrum of dance
  music - disco, house, funk, jazz, boogie - in particular preserving &
  paying respect to the vibe of The Loft and Paradise Garage, with insp
 iration from legendary Chicago DJ & producer Derrick Carter’s style 
 & Larry Levan's (and similar DJs of his era) way of \"speaking to the 
 dancer.\" In 2005, Sergio was chosen as the New Times (SF Weekly/East 
 Bay Express) \"DJ Breakthrough\" and in 2006 Sergio was awarded the th
 e title of the SF Weekly’s 2006 Music Awards \"Best DJ.\" He current
 ly holds a residency in the Castro's legendary Cafe Flore, and is a pr
 oud member of the much-loved Go BANG! monthly Atomic Dancefloor Disco 
 Action party 4th Saturdays!\n\n\nBeginning Thursday September 3, 2009 
 & every FIRST Thursday:\nStudio S.F.\n@ The Triple Crown\n1760 Market 
 St. - San Francisco, CA 94102\n9PM-2AM\n$5 / FREE BEFORE 10:30PM\n$2 B
 udweiser & $5 Pizzas All Night!\nRSVP for guestlist at StudioSF@lowsf.
 com\nhttp://www.facebook.com/pages/Studio-SF/129011787791\n\nFor more 
 information visit https://trueskool.com/events/studio-sf
DTSTART;TZID=America/Los_Angeles:20090903T210000
DTEND;TZID=America/Los_Angeles:20090904T020000
CATEGORIES:disco, italo, funk, electro, euro, studio, 54, paradise, ga
 rage, the, loft, music, box, warehouse, dance, club, sweaty, dancefloo
 r, look, out, weekend, go, bang, underground, future, honey, soundsyst
 em
LOCATION:Triple Crown
WEBSITE:http://www.triplecrownsf.com
URL:http://www.triplecrownsf.com
CONTACT:
ORGANIZER;CN=Sergio:https://trueskool.com/profile/Sergio
ATTACH;FMTTYPE="image/jpeg":http://storage.ning.com/topology/rest/1.0/
 file/get/2247860207?profile=original
ATTENDEE;ROLE=REQ-PARTICIPANT;PARTSTAT=ACCEPTED;RSVP=TRUE;CN=Sergio:ht
 tps://trueskool.com/profile/Sergio
END:VEVENT
END:VCALENDAR
