BEGIN:VCALENDAR
PRODID:NingEventWidget-v1
VERSION:2.0
METHOD:PUBLISH
BEGIN:VTIMEZONE
TZID:America/Los_Angeles
X-LIC-LOCATION:America/Los_Angeles
BEGIN:DAYLIGHT
TZOFFSETFROM:-0800
TZOFFSETTO:-0700
TZNAME:PDT
DTSTART:19700308T020000
RRULE:FREQ=YEARLY;BYMONTH=3;BYDAY=2SU
END:DAYLIGHT
BEGIN:STANDARD
TZOFFSETFROM:-0700
TZOFFSETTO:-0800
TZNAME:PST
DTSTART:19701101T020000
RRULE:FREQ=YEARLY;BYMONTH=11;BYDAY=1SU
END:STANDARD
END:VTIMEZONE
BEGIN:VEVENT
UID:1464587:Event:53277
DTSTAMP:20260420T213046Z
SUMMARY:Stricktly Videos
DESCRIPTION:Strictly Videos is the premiere monthly music video night 
 at 111 Minna Gallery. Watch, Listen, and Dance your ass off to Music V
 ideos all night. VDJ's will be spinning music videos from every genre(
 Rap, 80s, R&B, Dancehall) in sync with the music.\n\nVDJS\n\nAPOLLO (T
 riple Threat)\nSHORTKUT (Beat Junkies | Triple Threat)\nHAYLOW (Distor
 tion 2 Static)\nSATVA (Kleome)\n\n$5 b4 11pm rsvp:\nsanfranglist@gmail
 .com\n$10 cover | Doors Open: 10pm\n21+up w/ID\n111 Minna St (@2nd)\nS
 an Francisco, CA 94105\nwww.111minnagallery.com\n\nBrought To You by:\
 nKleome.com\n\nFor more information visit https://trueskool.com/events
 /stricktly-videos
DTSTART;TZID=America/Los_Angeles:20100409T220000
DTEND;TZID=America/Los_Angeles:20100410T020000
CATEGORIES:video, mixing, -, hip, hop, reggae, old, school, and, then,
  "some..."
LOCATION:111 Minna Gallery
WEBSITE:http://www.111minnagallery.com
URL:http://www.111minnagallery.com
CONTACT:
ORGANIZER:Kleome & Sagatiba
ATTACH;FMTTYPE="image/jpeg":http://storage.ning.com/topology/rest/1.0/
 file/get/2247876501?profile=original
ATTENDEE;ROLE=REQ-PARTICIPANT;PARTSTAT=ACCEPTED;RSVP=TRUE;CN="DJ Apoll
 o":https://trueskool.com/profile/DJApollo
END:VEVENT
END:VCALENDAR
