BEGIN:VCALENDAR
PRODID:NingEventWidget-v1
VERSION:2.0
METHOD:PUBLISH
BEGIN:VTIMEZONE
TZID:America/Los_Angeles
X-LIC-LOCATION:America/Los_Angeles
BEGIN:DAYLIGHT
TZOFFSETFROM:-0800
TZOFFSETTO:-0700
TZNAME:PDT
DTSTART:19700308T020000
RRULE:FREQ=YEARLY;BYMONTH=3;BYDAY=2SU
END:DAYLIGHT
BEGIN:STANDARD
TZOFFSETFROM:-0700
TZOFFSETTO:-0800
TZNAME:PST
DTSTART:19701101T020000
RRULE:FREQ=YEARLY;BYMONTH=11;BYDAY=1SU
END:STANDARD
END:VTIMEZONE
BEGIN:VEVENT
UID:1464587:Event:42748
DTSTAMP:20260421T081410Z
SUMMARY:Strength in Flavor - SCION DANCE WEEK featuring DJ Kool Herc
DESCRIPTION:WIN A PAIR OF TICKETS. Send your FULL NAME to trueskoolcon
 test@gmail.com with either \"2on2\" or \"Kool Herc\" in the Subject Li
 ne.\n\nScion in association with the Flavor Group present Strength in 
 Flavor - SCION DANCE WEEK\nNov 9th -15th 2009\n\nScion in association 
 with the Flavor Group, creator of the legendary Beat Riders Dance Camp
 , commands all floor rockers to join us for the ultimate battle, beats
 , and knowledge dropping. We welcome you to STRENGTH IN FLAVOR: SCION 
 DANCE WEEK honoring Hip Hop month with a $2,000 prize 2 on 2 all style
 s dance contest, classes and lectures by dance legends like SALAH and 
 Zulu Gremlin, and topped off with a celebratory toast to dance with on
 e of the founders of Hip Hop, DJ Kool Herc.\n\nCombo of 3 Events:\n\nâ
 €¢ Saturday November 14th , 2pm-8pm, DNA Lounge - All ages tournament 
 style dance event\nâ€¢ Saturday November 14th. 10pm-4am, Temple - 21+ 
 official after party with world class DJâ€™s\nâ€¢ Dance classes and le
 ctures in week leading up to event\nSATURDAY NOVEMBER 14th | 3pm to 8p
 m $2000 2on2 All styles dance contest\nSpecial Guest: Salah (Paris, FR
 )\n\nContest DJs\nJayvi Velasco\nRj KoolRaul (Supreme Soul, Beatz N Pi
 eces)\n\nDNA Lounge | 314 11th Street SF, CA\nBUY PRESALES TICKETS\nAL
 L AGES WELCOME\n(please no babies | under 11 in FREE)\nFULL BAR for 21
 +\n\nSATURDAY NOVEMBER 14th The After Party: Hosted by Zulu Nation\nCo
 me shake, pop and raise a toast to Hip Hop. Party rockin beats will be
  provided by a godfather of hip hop, DJ Kool Herc. The dancefloor will
  be detonated. You've been warned.\n\nSpecial Guests:\nDJ Kool Herc (N
 YC)\nDJ Cros1 (Freestyle Session, San Diego)\n\nDestiny Lounge:\nJayvi
  Velasco,\nCo FLO (FLO-ology, Soulshifters)\n\nTemple Nightclub | 540 
 Howard Street SF\n| 10pm - 4am | 21+\n\nDANCE CLASSES November 9-13\n\
 nGet Schooled:\nIn celebration of Hip Hop History month, Strength In F
 lavor is bringing together a series of lectures and classes by legends
  of the culture. Visit our web site for full details. Learn from Salah
 , Zulu Gremlin, Cros1, Mestre Urbu Malandro, Ana \"Lollipop\" Sanchez,
  Fayzo, and even more classes by local heroes.\n\nWEDNESDAY NOV 11th\n
 House Dance with Odie (Flo-ology)\n\nODC | 351 Shotwell Street SF, CA 
 | 8pm-9pm\n$12 dropins | INFO mindbodyflo.com\n\nOld School Hip-Hop by
  Instructor: Dennis Infante (DS Players / Groovmekanex)\n(Free class o
 n Nov 4th!)\nCity Dance | 10 Colton St SF, CA | 8pm-9:15pm\n$12 dropin
 s | INFO www.citydance.org\n\nCapoeira Class taught by Mestre Urubu Ma
 landro\n\nProject Commotion - 2095 Harrison St, SF CA | 7pm-9pm | $10 
 | Tickets and Info - http://capoeirausa.com\n\nTHURSDAY NOV 12th\nMAST
 ER CLASS with Zulu Gremlin\nFlavor Group HQ | 2729 Mission St SF, CA |
  7pm-9:30pm\n\n$20 dropins | PRESALES AVAILABLE http://www.going.com/s
 trengththu\n\nMASTER CLASS with FAYZO\nFlavor Group HQ | 2729 Mission 
 St SF, CA | 7pm-9:30pm\n\n$20 dropins | PRESALES AVAILABLE http://www.
 going.com/strengththu\n\nFRIDAY NOV 13th\n\nMASTER CLASS with Ana \"Lo
 llipop\" Sanchez\nODC | 351 Shotwell Street SF, CA | 7:30pm-9pm\n\n$20
  | PRESALES AVAILABLE http://www.going.com/strengthfri\n\nMASTER CLASS
  with SALAH\nODC | 351 Shotwell Street SF, CA | 9pm-10:30pm\n\n$20 | P
 RESALES AVAILABLE http://www.going.com/strengthfri\n\nFor more informa
 tion visit https://trueskool.com/events/strength-in-flavor-scion
DTSTART;TZID=America/Los_Angeles:20091114T190000
DTEND;TZID=America/Los_Angeles:20091115T040000
CATEGORIES:hip, hop, electro, old, school, dance, b-boy, bboy, break, 
 breakin
LOCATION:Various Locations, San Francisco, CA
WEBSITE:http://sanfrancisco.going.com/event-669406;Strength_in_Flavor_
 -_SCION_DANCE_WEEK\" target=\"_blank
URL:http://sanfrancisco.going.com/event-669406;Strength_in_Flavor_-_SC
 ION_DANCE_WEEK\" target=\"_blank
CONTACT:
ORGANIZER:Scion in association with the Flavor Group
ATTACH;FMTTYPE="image/jpeg":http://storage.ning.com/topology/rest/1.0/
 file/get/2247868663?profile=original
ATTENDEE;ROLE=REQ-PARTICIPANT;PARTSTAT=ACCEPTED;RSVP=TRUE;CN="Editor's
  Pick":https://trueskool.com/profile/RentheVinylArchaeologist
END:VEVENT
END:VCALENDAR
