BEGIN:VCALENDAR
PRODID:NingEventWidget-v1
VERSION:2.0
METHOD:PUBLISH
BEGIN:VTIMEZONE
TZID:America/Los_Angeles
X-LIC-LOCATION:America/Los_Angeles
BEGIN:DAYLIGHT
TZOFFSETFROM:-0800
TZOFFSETTO:-0700
TZNAME:PDT
DTSTART:19700308T020000
RRULE:FREQ=YEARLY;BYMONTH=3;BYDAY=2SU
END:DAYLIGHT
BEGIN:STANDARD
TZOFFSETFROM:-0700
TZOFFSETTO:-0800
TZNAME:PST
DTSTART:19701101T020000
RRULE:FREQ=YEARLY;BYMONTH=11;BYDAY=1SU
END:STANDARD
END:VTIMEZONE
BEGIN:VEVENT
UID:1464587:Event:680646
DTSTAMP:20260421T093418Z
SUMMARY:Stooki Sound (WIN TICKETS)
DESCRIPTION:ENTER TO WIN A PAIR OF TICKETS. WINNER WILL BE DRAWN RANDO
 MLY AND ANNOUNCED 2 DAYS PRIOR TO EVENT.\r\n\r\n FRI 12.21\r\nSOUNDPIE
 CES PRESENTS\r\nStööki Sound Ryury\r\n\r\nTHE INDEPENDENT\r\n628 DIV
 ISADERO, SAN FRANCISCO\r\n9:00 PM . Tickets $15 ADV - $20 DOOR\r\n>> B
 UY TICKETS\r\n\n\nFor more information visit https://trueskool.com/eve
 nts/stooki-sound-win-tickets
DTSTART;TZID=America/Los_Angeles:20181221T210000
DTEND;TZID=America/Los_Angeles:20181221T230000
CATEGORIES:"bay area", "san francisco"
LOCATION:The Independent, SF
WEBSITE:https://www.ticketfly.com/purchase/event/1753214?_ga=2.3606217
 6.1564057310.1544656055-489567450.1542223141
URL:https://www.ticketfly.com/purchase/event/1753214?_ga=2.36062176.15
 64057310.1544656055-489567450.1542223141
CONTACT:
ORGANIZER:Another Planet Ent
ATTACH;FMTTYPE="image/jpeg":https://storage.ning.com/topology/rest/1.0
 /file/get/341095443?profile=original
ATTENDEE;ROLE=REQ-PARTICIPANT;PARTSTAT=ACCEPTED;RSVP=TRUE;CN="Editor's
  Pick":https://trueskool.com/profile/RentheVinylArchaeologist
END:VEVENT
END:VCALENDAR
