BEGIN:VCALENDAR
PRODID:NingEventWidget-v1
VERSION:2.0
METHOD:PUBLISH
BEGIN:VTIMEZONE
TZID:America/Los_Angeles
X-LIC-LOCATION:America/Los_Angeles
BEGIN:DAYLIGHT
TZOFFSETFROM:-0800
TZOFFSETTO:-0700
TZNAME:PDT
DTSTART:19700308T020000
RRULE:FREQ=YEARLY;BYMONTH=3;BYDAY=2SU
END:DAYLIGHT
BEGIN:STANDARD
TZOFFSETFROM:-0700
TZOFFSETTO:-0800
TZNAME:PST
DTSTART:19701101T020000
RRULE:FREQ=YEARLY;BYMONTH=11;BYDAY=1SU
END:STANDARD
END:VTIMEZONE
BEGIN:VEVENT
UID:1464587:Event:655000
DTSTAMP:20260422T045512Z
SUMMARY:STONE THROW 20th ANNIVERSARY TOUR with special guest ALI SHAHE
 ED MUHAMMAD  of A Tribe Called Quest, PEANUT BUTTER WOLF, HOMEBOY SAND
 MAN...
DESCRIPTION:\n\nFRIDAY, NOV 18 HUSHconcerts & 1015 Present the 15th an
 nual SF Funk Fest House Party\nSTONE THROW 20th ANNIVERSARY TOUR with 
 special guest ALI SHAHEED MUHAMMAD  of A Tribe Called Quest PEANUT BUT
 TER WOLF  HOMEBOY SANDMAN (live) MNDSGN (live) • ALL GOOD FUNK ALLIA
 NCE DJ ZEPH • DJ PLATURN • MARKY MOTION POTION • GORDO CABEZA DJ
  MANCUB Tribe Tribute Set REN THE VINYL ARCHAEOLOGIST Hosted by FRAN B
 OOGIE\nAt 1015, SF 1015 Folsom St | 10pm show | 21+ >> BUY TICKETS\n\n
 \n\nFor more information visit https://trueskool.com/events/stone-thro
 w-20th-anniversary-tour-with-special-guest-ali-shaheed-
DTSTART;TZID=America/Los_Angeles:20161118T220000
DTEND;TZID=America/Los_Angeles:20161119T020000
CATEGORIES:"bay area", "san francisco"
LOCATION:1015, San Francisco
WEBSITE:http://bit.ly/RenST16
URL:http://bit.ly/RenST16
CONTACT:
ORGANIZER:HUSHconcerts
ATTACH;FMTTYPE="image/jpeg":http://storage.ning.com/topology/rest/1.0/
 file/get/2247991821?profile=original
ATTENDEE;ROLE=REQ-PARTICIPANT;PARTSTAT=ACCEPTED;RSVP=TRUE;CN="m.deep.m
 usic":https://trueskool.com/profile/mdeepmusic
ATTENDEE;ROLE=REQ-PARTICIPANT;PARTSTAT=ACCEPTED;RSVP=TRUE;CN="Editor's
  Pick":https://trueskool.com/profile/RentheVinylArchaeologist
END:VEVENT
END:VCALENDAR
