BEGIN:VCALENDAR
PRODID:NingEventWidget-v1
VERSION:2.0
METHOD:PUBLISH
BEGIN:VTIMEZONE
TZID:America/Los_Angeles
X-LIC-LOCATION:America/Los_Angeles
BEGIN:DAYLIGHT
TZOFFSETFROM:-0800
TZOFFSETTO:-0700
TZNAME:PDT
DTSTART:19700308T020000
RRULE:FREQ=YEARLY;BYMONTH=3;BYDAY=2SU
END:DAYLIGHT
BEGIN:STANDARD
TZOFFSETFROM:-0700
TZOFFSETTO:-0800
TZNAME:PST
DTSTART:19701101T020000
RRULE:FREQ=YEARLY;BYMONTH=11;BYDAY=1SU
END:STANDARD
END:VTIMEZONE
BEGIN:VEVENT
UID:1464587:Event:672284
DTSTAMP:20260421T085221Z
SUMMARY:STICK FIGURE (WIN TICKETS)
DESCRIPTION:ENTER TO WIN A PAIR OF TICKETS. WINNER WILL BE DRAWN RANDO
 MLY AND ANNOUNCED 2 DAYS PRIOR TO EVENT. \r\n\r\nSaturday, February 03
 , 2018\r\nSTICK FIGURE\r\nTwiddle  Iya Terra\r\nFox Theater Oakland, C
 A Show: 8:00pm\r\n>> BUY TICKETS\r\n\n\nFor more information visit htt
 ps://trueskool.com/events/stick-figure
DTSTART;TZID=America/Los_Angeles:20180203T200000
DTEND;TZID=America/Los_Angeles:20180203T230000
CATEGORIES:"bay area", oakland, "san francisco", "san jose", berkeley
LOCATION:Fox Theater, Oakland
WEBSITE:https://www.ticketmaster.com/event/1C005345C2F5569C?camefrom=C
 FC_ANOTHERPLANET_web&amp;amp;amp;brand=anotherplanet
URL:https://www.ticketmaster.com/event/1C005345C2F5569C?camefrom=CFC_A
 NOTHERPLANET_web&amp;amp;amp;brand=anotherplanet
CONTACT:
ORGANIZER;CN="Editor's Pick":https://trueskool.com/profile/RentheVinyl
 Archaeologist
ATTACH;FMTTYPE="image/jpeg":http://storage.ning.com/topology/rest/1.0/
 file/get/2248004306?profile=original
ATTENDEE;ROLE=REQ-PARTICIPANT;PARTSTAT=ACCEPTED;RSVP=TRUE;CN="Editor's
  Pick":https://trueskool.com/profile/RentheVinylArchaeologist
END:VEVENT
END:VCALENDAR
